{"text_format":"1","workbook":"xlsx","n_sheets":2,"sheets":["Tornado Chart","Final Data"],"not_rendered":{"charts":1,"images":1,"macros":1,"external_links":0,"defined_names":3,"comments":0,"pivot_tables":0},"unopened":[],"bounds":{"document_bytes":16777216,"sheet_cells":100000,"rows_first":2000,"rows_last":500,"rows_between":2000,"halvings":0,"cell_chars":16384,"cell_head_chars":4096},"cells_cut":0,"cells_raw":0,"read":"whole","date_system":"1900"}

{"sheet":"Tornado Chart","index":0,"n_rows":6,"n_cols":17,"rows_kept":6,"cut":false,"hidden":false,"merged":[[0,3,1,9]]}
[null,null,null,"Tornado Chart",null,null,null,null,null,null,null,null,null,"Variable","Low","Base / Medium","High"]
[null,null,null,null,null,null,null,null,null,null,null,null,null,"Variable 1",2,4,12]
[null,null,null,null,null,null,null,null,null,null,null,null,null,"Variable 2",3,5,13]
[null,null,null,null,null,null,null,null,null,null,null,null,null,"Variable 3",4,6,14]
[null,null,null,null,null,null,null,null,null,null,null,null,null,"Variable 4",2,7,15]
[null,null,null,null,null,null,null,null,null,null,null,null,null,"Variable 5",4,8,16]

{"sheet":"Final Data","index":1,"n_rows":101,"n_cols":13,"rows_kept":101,"cut":false,"hidden":true,"merged":[]}
["Variable","Low","Base","High","Deviation","%Variance","Rank",null,null,null,"Variable","Low","High"]
[{"$f":"IF('Tornado Chart'!N2=\"\",\"\",'Tornado Chart'!N2)","v":"Variable 1"},{"$f":"IF('Tornado Chart'!O2=\"\",\"\",'Tornado Chart'!O2)","v":2},{"$f":"IF('Tornado Chart'!P2=\"\",\"\",'Tornado Chart'!P2)","v":4},{"$f":"IF('Tornado Chart'!Q2=\"\",\"\",'Tornado Chart'!Q2)","v":12},{"$f":"IF(A2=\"\",\"\",(MAX(B2:D2)-MIN(B2:D2))^2)","v":100},{"$f":"IF(A2=\"\",\"\",E2/SUM(E:E))","v":0.16313213703099511},{"$f":"IF($A2=\"\",\"\",RANK($F2,$F$2:$F$100,1)+COUNTIF(F$2:F2,F2)-1)","v":1},null,"Base Average",{"$f":"IFERROR(AVERAGE(C:C),0)","v":6},{"$f":"IFERROR(INDEX(A:A,MATCH(ROWS($1:1),$G:$G,0)),IF(ROW()=2,\"None\",\"\"))","v":"Variable 1"},{"$f":"IFERROR(INDEX(B:B,MATCH(ROWS($1:1),$G:$G,0)),IF(ROW()=2,0,\"\"))","v":2},{"$f":"IFERROR(INDEX(D:D,MATCH(ROWS($1:1),$G:$G,0)),IF(ROW()=2,0,\"\"))","v":12}]
[{"$f":"IF('Tornado Chart'!N3=\"\",\"\",'Tornado Chart'!N3)","v":"Variable 2"},{"$f":"IF('Tornado Chart'!O3=\"\",\"\",'Tornado Chart'!O3)","v":3},{"$f":"IF('Tornado Chart'!P3=\"\",\"\",'Tornado Chart'!P3)","v":5},{"$f":"IF('Tornado Chart'!Q3=\"\",\"\",'Tornado Chart'!Q3)","v":13},{"$f":"IF(A3=\"\",\"\",(MAX(B3:D3)-MIN(B3:D3))^2)","v":100},{"$f":"IF(A3=\"\",\"\",E3/SUM(E:E))","v":0.16313213703099511},{"$f":"IF($A3=\"\",\"\",RANK($F3,$F$2:$F$100,1)+COUNTIF(F$2:F3,F3)-1)","v":2},null,null,null,{"$f":"IFERROR(INDEX(A:A,MATCH(ROWS($1:2),$G:$G,0)),IF(ROW()=2,\"None\",\"\"))","v":"Variable 2"},{"$f":"IFERROR(INDEX(B:B,MATCH(ROWS($1:2),$G:$G,0)),IF(ROW()=2,0,\"\"))","v":3},{"$f":"IFERROR(INDEX(D:D,MATCH(ROWS($1:2),$G:$G,0)),IF(ROW()=2,0,\"\"))","v":13}]
[{"$f":"IF('Tornado Chart'!N4=\"\",\"\",'Tornado Chart'!N4)","v":"Variable 3"},{"$f":"IF('Tornado Chart'!O4=\"\",\"\",'Tornado Chart'!O4)","v":4},{"$f":"IF('Tornado Chart'!P4=\"\",\"\",'Tornado Chart'!P4)","v":6},{"$f":"IF('Tornado Chart'!Q4=\"\",\"\",'Tornado Chart'!Q4)","v":14},100,0.16313213703099511,{"$f":"IF($A4=\"\",\"\",RANK($F4,$F$2:$F$100,1)+COUNTIF(F$2:F4,F4)-1)","v":3},null,null,null,{"$f":"IFERROR(INDEX(A:A,MATCH(ROWS($1:3),$G:$G,0)),IF(ROW()=2,\"None\",\"\"))","v":"Variable 3"},{"$f":"IFERROR(INDEX(B:B,MATCH(ROWS($1:3),$G:$G,0)),IF(ROW()=2,0,\"\"))","v":4},{"$f":"IFERROR(INDEX(D:D,MATCH(ROWS($1:3),$G:$G,0)),IF(ROW()=2,0,\"\"))","v":14}]
[{"$f":"IF('Tornado Chart'!N5=\"\",\"\",'Tornado Chart'!N5)","v":"Variable 4"},{"$f":"IF('Tornado Chart'!O5=\"\",\"\",'Tornado Chart'!O5)","v":2},{"$f":"IF('Tornado Chart'!P5=\"\",\"\",'Tornado Chart'!P5)","v":7},{"$f":"IF('Tornado Chart'!Q5=\"\",\"\",'Tornado Chart'!Q5)","v":15},169,0.27569331158238175,{"$f":"IF($A5=\"\",\"\",RANK($F5,$F$2:$F$100,1)+COUNTIF(F$2:F5,F5)-1)","v":5},null,null,null,{"$f":"IFERROR(INDEX(A:A,MATCH(ROWS($1:4),$G:$G,0)),IF(ROW()=2,\"None\",\"\"))","v":"Variable 5"},{"$f":"IFERROR(INDEX(B:B,MATCH(ROWS($1:4),$G:$G,0)),IF(ROW()=2,0,\"\"))","v":4},{"$f":"IFERROR(INDEX(D:D,MATCH(ROWS($1:4),$G:$G,0)),IF(ROW()=2,0,\"\"))","v":16}]
[{"$f":"IF('Tornado Chart'!N6=\"\",\"\",'Tornado Chart'!N6)","v":"Variable 5"},{"$f":"IF('Tornado Chart'!O6=\"\",\"\",'Tornado Chart'!O6)","v":4},{"$f":"IF('Tornado Chart'!P6=\"\",\"\",'Tornado Chart'!P6)","v":8},{"$f":"IF('Tornado Chart'!Q6=\"\",\"\",'Tornado Chart'!Q6)","v":16},144,0.23491027732463296,{"$f":"IF($A6=\"\",\"\",RANK($F6,$F$2:$F$100,1)+COUNTIF(F$2:F6,F6)-1)","v":4},null,null,null,{"$f":"IFERROR(INDEX(A:A,MATCH(ROWS($1:5),$G:$G,0)),IF(ROW()=2,\"None\",\"\"))","v":"Variable 4"},{"$f":"IFERROR(INDEX(B:B,MATCH(ROWS($1:5),$G:$G,0)),IF(ROW()=2,0,\"\"))","v":2},{"$f":"IFERROR(INDEX(D:D,MATCH(ROWS($1:5),$G:$G,0)),IF(ROW()=2,0,\"\"))","v":15}]
[{"$f":"IF('Tornado Chart'!N7=\"\",\"\",'Tornado Chart'!N7)","v":""},{"$f":"IF('Tornado Chart'!O7=\"\",\"\",'Tornado Chart'!O7)","v":""},{"$f":"IF('Tornado Chart'!P7=\"\",\"\",'Tornado Chart'!P7)","v":""},{"$f":"IF('Tornado Chart'!Q7=\"\",\"\",'Tornado Chart'!Q7)","v":""},"","",{"$f":"IF($A7=\"\",\"\",RANK($F7,$F$2:$F$100,1)+COUNTIF(F$2:F7,F7)-1)","v":""},null,null,null,{"$f":"IFERROR(INDEX(A:A,MATCH(ROWS($1:6),$G:$G,0)),IF(ROW()=2,\"None\",\"\"))","v":""},{"$f":"IFERROR(INDEX(B:B,MATCH(ROWS($1:6),$G:$G,0)),IF(ROW()=2,0,\"\"))","v":""},{"$f":"IFERROR(INDEX(D:D,MATCH(ROWS($1:6),$G:$G,0)),IF(ROW()=2,0,\"\"))","v":""}]
[{"$f":"IF('Tornado Chart'!N8=\"\",\"\",'Tornado Chart'!N8)","v":""},{"$f":"IF('Tornado Chart'!O8=\"\",\"\",'Tornado Chart'!O8)","v":""},{"$f":"IF('Tornado Chart'!P8=\"\",\"\",'Tornado Chart'!P8)","v":""},{"$f":"IF('Tornado Chart'!Q8=\"\",\"\",'Tornado Chart'!Q8)","v":""},"","",{"$f":"IF($A8=\"\",\"\",RANK($F8,$F$2:$F$100,1)+COUNTIF(F$2:F8,F8)-1)","v":""},null,null,null,{"$f":"IFERROR(INDEX(A:A,MATCH(ROWS($1:7),$G:$G,0)),IF(ROW()=2,\"None\",\"\"))","v":""},{"$f":"IFERROR(INDEX(B:B,MATCH(ROWS($1:7),$G:$G,0)),IF(ROW()=2,0,\"\"))","v":""},{"$f":"IFERROR(INDEX(D:D,MATCH(ROWS($1:7),$G:$G,0)),IF(ROW()=2,0,\"\"))","v":""}]
[{"$f":"IF('Tornado Chart'!N9=\"\",\"\",'Tornado Chart'!N9)","v":""},{"$f":"IF('Tornado Chart'!O9=\"\",\"\",'Tornado Chart'!O9)","v":""},{"$f":"IF('Tornado Chart'!P9=\"\",\"\",'Tornado Chart'!P9)","v":""},{"$f":"IF('Tornado Chart'!Q9=\"\",\"\",'Tornado Chart'!Q9)","v":""},"","",{"$f":"IF($A9=\"\",\"\",RANK($F9,$F$2:$F$100,1)+COUNTIF(F$2:F9,F9)-1)","v":""},null,null,null,{"$f":"IFERROR(INDEX(A:A,MATCH(ROWS($1:8),$G:$G,0)),IF(ROW()=2,\"None\",\"\"))","v":""},{"$f":"IFERROR(INDEX(B:B,MATCH(ROWS($1:8),$G:$G,0)),IF(ROW()=2,0,\"\"))","v":""},{"$f":"IFERROR(INDEX(D:D,MATCH(ROWS($1:8),$G:$G,0)),IF(ROW()=2,0,\"\"))","v":""}]
[{"$f":"IF('Tornado Chart'!N10=\"\",\"\",'Tornado Chart'!N10)","v":""},{"$f":"IF('Tornado Chart'!O10=\"\",\"\",'Tornado Chart'!O10)","v":""},{"$f":"IF('Tornado Chart'!P10=\"\",\"\",'Tornado Chart'!P10)","v":""},{"$f":"IF('Tornado Chart'!Q10=\"\",\"\",'Tornado Chart'!Q10)","v":""},"","",{"$f":"IF($A10=\"\",\"\",RANK($F10,$F$2:$F$100,1)+COUNTIF(F$2:F10,F10)-1)","v":""},null,null,null,{"$f":"IFERROR(INDEX(A:A,MATCH(ROWS($1:9),$G:$G,0)),IF(ROW()=2,\"None\",\"\"))","v":""},{"$f":"IFERROR(INDEX(B:B,MATCH(ROWS($1:9),$G:$G,0)),IF(ROW()=2,0,\"\"))","v":""},{"$f":"IFERROR(INDEX(D:D,MATCH(ROWS($1:9),$G:$G,0)),IF(ROW()=2,0,\"\"))","v":""}]
[{"$f":"IF('Tornado Chart'!N11=\"\",\"\",'Tornado Chart'!N11)","v":""},{"$f":"IF('Tornado Chart'!O11=\"\",\"\",'Tornado Chart'!O11)","v":""},{"$f":"IF('Tornado Chart'!P11=\"\",\"\",'Tornado Chart'!P11)","v":""},{"$f":"IF('Tornado Chart'!Q11=\"\",\"\",'Tornado Chart'!Q11)","v":""},"","",{"$f":"IF($A11=\"\",\"\",RANK($F11,$F$2:$F$100,1)+COUNTIF(F$2:F11,F11)-1)","v":""},null,null,null,{"$f":"IFERROR(INDEX(A:A,MATCH(ROWS($1:10),$G:$G,0)),IF(ROW()=2,\"None\",\"\"))","v":""},{"$f":"IFERROR(INDEX(B:B,MATCH(ROWS($1:10),$G:$G,0)),IF(ROW()=2,0,\"\"))","v":""},{"$f":"IFERROR(INDEX(D:D,MATCH(ROWS($1:10),$G:$G,0)),IF(ROW()=2,0,\"\"))","v":""}]
[{"$f":"IF('Tornado Chart'!N12=\"\",\"\",'Tornado Chart'!N12)","v":""},{"$f":"IF('Tornado Chart'!O12=\"\",\"\",'Tornado Chart'!O12)","v":""},{"$f":"IF('Tornado Chart'!P12=\"\",\"\",'Tornado Chart'!P12)","v":""},{"$f":"IF('Tornado Chart'!Q12=\"\",\"\",'Tornado Chart'!Q12)","v":""},"","",{"$f":"IF($A12=\"\",\"\",RANK($F12,$F$2:$F$100,1)+COUNTIF(F$2:F12,F12)-1)","v":""},null,null,null,{"$f":"IFERROR(INDEX(A:A,MATCH(ROWS($1:11),$G:$G,0)),IF(ROW()=2,\"None\",\"\"))","v":""},{"$f":"IFERROR(INDEX(B:B,MATCH(ROWS($1:11),$G:$G,0)),IF(ROW()=2,0,\"\"))","v":""},{"$f":"IFERROR(INDEX(D:D,MATCH(ROWS($1:11),$G:$G,0)),IF(ROW()=2,0,\"\"))","v":""}]
[{"$f":"IF('Tornado Chart'!N13=\"\",\"\",'Tornado Chart'!N13)","v":""},{"$f":"IF('Tornado Chart'!O13=\"\",\"\",'Tornado Chart'!O13)","v":""},{"$f":"IF('Tornado Chart'!P13=\"\",\"\",'Tornado Chart'!P13)","v":""},{"$f":"IF('Tornado Chart'!Q13=\"\",\"\",'Tornado Chart'!Q13)","v":""},"","",{"$f":"IF($A13=\"\",\"\",RANK($F13,$F$2:$F$100,1)+COUNTIF(F$2:F13,F13)-1)","v":""},null,null,null,{"$f":"IFERROR(INDEX(A:A,MATCH(ROWS($1:12),$G:$G,0)),IF(ROW()=2,\"None\",\"\"))","v":""},{"$f":"IFERROR(INDEX(B:B,MATCH(ROWS($1:12),$G:$G,0)),IF(ROW()=2,0,\"\"))","v":""},{"$f":"IFERROR(INDEX(D:D,MATCH(ROWS($1:12),$G:$G,0)),IF(ROW()=2,0,\"\"))","v":""}]
[{"$f":"IF('Tornado Chart'!N14=\"\",\"\",'Tornado Chart'!N14)","v":""},{"$f":"IF('Tornado Chart'!O14=\"\",\"\",'Tornado Chart'!O14)","v":""},{"$f":"IF('Tornado Chart'!P14=\"\",\"\",'Tornado Chart'!P14)","v":""},{"$f":"IF('Tornado Chart'!Q14=\"\",\"\",'Tornado Chart'!Q14)","v":""},"","",{"$f":"IF($A14=\"\",\"\",RANK($F14,$F$2:$F$100,1)+COUNTIF(F$2:F14,F14)-1)","v":""},null,null,null,{"$f":"IFERROR(INDEX(A:A,MATCH(ROWS($1:13),$G:$G,0)),IF(ROW()=2,\"None\",\"\"))","v":""},{"$f":"IFERROR(INDEX(B:B,MATCH(ROWS($1:13),$G:$G,0)),IF(ROW()=2,0,\"\"))","v":""},{"$f":"IFERROR(INDEX(D:D,MATCH(ROWS($1:13),$G:$G,0)),IF(ROW()=2,0,\"\"))","v":""}]
[{"$f":"IF('Tornado Chart'!N15=\"\",\"\",'Tornado Chart'!N15)","v":""},{"$f":"IF('Tornado Chart'!O15=\"\",\"\",'Tornado Chart'!O15)","v":""},{"$f":"IF('Tornado Chart'!P15=\"\",\"\",'Tornado Chart'!P15)","v":""},{"$f":"IF('Tornado Chart'!Q15=\"\",\"\",'Tornado Chart'!Q15)","v":""},"","",{"$f":"IF($A15=\"\",\"\",RANK($F15,$F$2:$F$100,1)+COUNTIF(F$2:F15,F15)-1)","v":""},null,null,null,{"$f":"IFERROR(INDEX(A:A,MATCH(ROWS($1:14),$G:$G,0)),IF(ROW()=2,\"None\",\"\"))","v":""},{"$f":"IFERROR(INDEX(B:B,MATCH(ROWS($1:14),$G:$G,0)),IF(ROW()=2,0,\"\"))","v":""},{"$f":"IFERROR(INDEX(D:D,MATCH(ROWS($1:14),$G:$G,0)),IF(ROW()=2,0,\"\"))","v":""}]
[{"$f":"IF('Tornado Chart'!N16=\"\",\"\",'Tornado Chart'!N16)","v":""},{"$f":"IF('Tornado Chart'!O16=\"\",\"\",'Tornado Chart'!O16)","v":""},{"$f":"IF('Tornado Chart'!P16=\"\",\"\",'Tornado Chart'!P16)","v":""},{"$f":"IF('Tornado Chart'!Q16=\"\",\"\",'Tornado Chart'!Q16)","v":""},"","",{"$f":"IF($A16=\"\",\"\",RANK($F16,$F$2:$F$100,1)+COUNTIF(F$2:F16,F16)-1)","v":""},null,null,null,{"$f":"IFERROR(INDEX(A:A,MATCH(ROWS($1:15),$G:$G,0)),IF(ROW()=2,\"None\",\"\"))","v":""},{"$f":"IFERROR(INDEX(B:B,MATCH(ROWS($1:15),$G:$G,0)),IF(ROW()=2,0,\"\"))","v":""},{"$f":"IFERROR(INDEX(D:D,MATCH(ROWS($1:15),$G:$G,0)),IF(ROW()=2,0,\"\"))","v":""}]
[{"$f":"IF('Tornado Chart'!N17=\"\",\"\",'Tornado Chart'!N17)","v":""},{"$f":"IF('Tornado Chart'!O17=\"\",\"\",'Tornado Chart'!O17)","v":""},{"$f":"IF('Tornado Chart'!P17=\"\",\"\",'Tornado Chart'!P17)","v":""},{"$f":"IF('Tornado Chart'!Q17=\"\",\"\",'Tornado Chart'!Q17)","v":""},"","",{"$f":"IF($A17=\"\",\"\",RANK($F17,$F$2:$F$100,1)+COUNTIF(F$2:F17,F17)-1)","v":""},null,null,null,{"$f":"IFERROR(INDEX(A:A,MATCH(ROWS($1:16),$G:$G,0)),IF(ROW()=2,\"None\",\"\"))","v":""},{"$f":"IFERROR(INDEX(B:B,MATCH(ROWS($1:16),$G:$G,0)),IF(ROW()=2,0,\"\"))","v":""},{"$f":"IFERROR(INDEX(D:D,MATCH(ROWS($1:16),$G:$G,0)),IF(ROW()=2,0,\"\"))","v":""}]
[{"$f":"IF('Tornado Chart'!N18=\"\",\"\",'Tornado Chart'!N18)","v":""},{"$f":"IF('Tornado Chart'!O18=\"\",\"\",'Tornado Chart'!O18)","v":""},{"$f":"IF('Tornado Chart'!P18=\"\",\"\",'Tornado Chart'!P18)","v":""},{"$f":"IF('Tornado Chart'!Q18=\"\",\"\",'Tornado Chart'!Q18)","v":""},"","",{"$f":"IF($A18=\"\",\"\",RANK($F18,$F$2:$F$100,1)+COUNTIF(F$2:F18,F18)-1)","v":""},null,null,null,{"$f":"IFERROR(INDEX(A:A,MATCH(ROWS($1:17),$G:$G,0)),IF(ROW()=2,\"None\",\"\"))","v":""},{"$f":"IFERROR(INDEX(B:B,MATCH(ROWS($1:17),$G:$G,0)),IF(ROW()=2,0,\"\"))","v":""},{"$f":"IFERROR(INDEX(D:D,MATCH(ROWS($1:17),$G:$G,0)),IF(ROW()=2,0,\"\"))","v":""}]
[{"$f":"IF('Tornado Chart'!N19=\"\",\"\",'Tornado Chart'!N19)","v":""},{"$f":"IF('Tornado Chart'!O19=\"\",\"\",'Tornado Chart'!O19)","v":""},{"$f":"IF('Tornado Chart'!P19=\"\",\"\",'Tornado Chart'!P19)","v":""},{"$f":"IF('Tornado Chart'!Q19=\"\",\"\",'Tornado Chart'!Q19)","v":""},"","",{"$f":"IF($A19=\"\",\"\",RANK($F19,$F$2:$F$100,1)+COUNTIF(F$2:F19,F19)-1)","v":""},null,null,null,{"$f":"IFERROR(INDEX(A:A,MATCH(ROWS($1:18),$G:$G,0)),IF(ROW()=2,\"None\",\"\"))","v":""},{"$f":"IFERROR(INDEX(B:B,MATCH(ROWS($1:18),$G:$G,0)),IF(ROW()=2,0,\"\"))","v":""},{"$f":"IFERROR(INDEX(D:D,MATCH(ROWS($1:18),$G:$G,0)),IF(ROW()=2,0,\"\"))","v":""}]
[{"$f":"IF('Tornado Chart'!N20=\"\",\"\",'Tornado Chart'!N20)","v":""},{"$f":"IF('Tornado Chart'!O20=\"\",\"\",'Tornado Chart'!O20)","v":""},{"$f":"IF('Tornado Chart'!P20=\"\",\"\",'Tornado Chart'!P20)","v":""},{"$f":"IF('Tornado Chart'!Q20=\"\",\"\",'Tornado Chart'!Q20)","v":""},"","",{"$f":"IF($A20=\"\",\"\",RANK($F20,$F$2:$F$100,1)+COUNTIF(F$2:F20,F20)-1)","v":""},null,null,null,{"$f":"IFERROR(INDEX(A:A,MATCH(ROWS($1:19),$G:$G,0)),IF(ROW()=2,\"None\",\"\"))","v":""},{"$f":"IFERROR(INDEX(B:B,MATCH(ROWS($1:19),$G:$G,0)),IF(ROW()=2,0,\"\"))","v":""},{"$f":"IFERROR(INDEX(D:D,MATCH(ROWS($1:19),$G:$G,0)),IF(ROW()=2,0,\"\"))","v":""}]
[{"$f":"IF('Tornado Chart'!N21=\"\",\"\",'Tornado Chart'!N21)","v":""},{"$f":"IF('Tornado Chart'!O21=\"\",\"\",'Tornado Chart'!O21)","v":""},{"$f":"IF('Tornado Chart'!P21=\"\",\"\",'Tornado Chart'!P21)","v":""},{"$f":"IF('Tornado Chart'!Q21=\"\",\"\",'Tornado Chart'!Q21)","v":""},"","",{"$f":"IF($A21=\"\",\"\",RANK($F21,$F$2:$F$100,1)+COUNTIF(F$2:F21,F21)-1)","v":""},null,null,null,{"$f":"IFERROR(INDEX(A:A,MATCH(ROWS($1:20),$G:$G,0)),IF(ROW()=2,\"None\",\"\"))","v":""},{"$f":"IFERROR(INDEX(B:B,MATCH(ROWS($1:20),$G:$G,0)),IF(ROW()=2,0,\"\"))","v":""},{"$f":"IFERROR(INDEX(D:D,MATCH(ROWS($1:20),$G:$G,0)),IF(ROW()=2,0,\"\"))","v":""}]
[{"$f":"IF('Tornado Chart'!N22=\"\",\"\",'Tornado Chart'!N22)","v":""},{"$f":"IF('Tornado Chart'!O22=\"\",\"\",'Tornado Chart'!O22)","v":""},{"$f":"IF('Tornado Chart'!P22=\"\",\"\",'Tornado Chart'!P22)","v":""},{"$f":"IF('Tornado Chart'!Q22=\"\",\"\",'Tornado Chart'!Q22)","v":""},"","",{"$f":"IF($A22=\"\",\"\",RANK($F22,$F$2:$F$100,1)+COUNTIF(F$2:F22,F22)-1)","v":""},null,null,null,{"$f":"IFERROR(INDEX(A:A,MATCH(ROWS($1:21),$G:$G,0)),IF(ROW()=2,\"None\",\"\"))","v":""},{"$f":"IFERROR(INDEX(B:B,MATCH(ROWS($1:21),$G:$G,0)),IF(ROW()=2,0,\"\"))","v":""},{"$f":"IFERROR(INDEX(D:D,MATCH(ROWS($1:21),$G:$G,0)),IF(ROW()=2,0,\"\"))","v":""}]
[{"$f":"IF('Tornado Chart'!N23=\"\",\"\",'Tornado Chart'!N23)","v":""},{"$f":"IF('Tornado Chart'!O23=\"\",\"\",'Tornado Chart'!O23)","v":""},{"$f":"IF('Tornado Chart'!P23=\"\",\"\",'Tornado Chart'!P23)","v":""},{"$f":"IF('Tornado Chart'!Q23=\"\",\"\",'Tornado Chart'!Q23)","v":""},"","",{"$f":"IF($A23=\"\",\"\",RANK($F23,$F$2:$F$100,1)+COUNTIF(F$2:F23,F23)-1)","v":""},null,null,null,{"$f":"IFERROR(INDEX(A:A,MATCH(ROWS($1:22),$G:$G,0)),IF(ROW()=2,\"None\",\"\"))","v":""},{"$f":"IFERROR(INDEX(B:B,MATCH(ROWS($1:22),$G:$G,0)),IF(ROW()=2,0,\"\"))","v":""},{"$f":"IFERROR(INDEX(D:D,MATCH(ROWS($1:22),$G:$G,0)),IF(ROW()=2,0,\"\"))","v":""}]
[{"$f":"IF('Tornado Chart'!N24=\"\",\"\",'Tornado Chart'!N24)","v":""},{"$f":"IF('Tornado Chart'!O24=\"\",\"\",'Tornado Chart'!O24)","v":""},{"$f":"IF('Tornado Chart'!P24=\"\",\"\",'Tornado Chart'!P24)","v":""},{"$f":"IF('Tornado Chart'!Q24=\"\",\"\",'Tornado Chart'!Q24)","v":""},"","",{"$f":"IF($A24=\"\",\"\",RANK($F24,$F$2:$F$100,1)+COUNTIF(F$2:F24,F24)-1)","v":""},null,null,null,{"$f":"IFERROR(INDEX(A:A,MATCH(ROWS($1:23),$G:$G,0)),IF(ROW()=2,\"None\",\"\"))","v":""},{"$f":"IFERROR(INDEX(B:B,MATCH(ROWS($1:23),$G:$G,0)),IF(ROW()=2,0,\"\"))","v":""},{"$f":"IFERROR(INDEX(D:D,MATCH(ROWS($1:23),$G:$G,0)),IF(ROW()=2,0,\"\"))","v":""}]
[{"$f":"IF('Tornado Chart'!N25=\"\",\"\",'Tornado Chart'!N25)","v":""},{"$f":"IF('Tornado Chart'!O25=\"\",\"\",'Tornado Chart'!O25)","v":""},{"$f":"IF('Tornado Chart'!P25=\"\",\"\",'Tornado Chart'!P25)","v":""},{"$f":"IF('Tornado Chart'!Q25=\"\",\"\",'Tornado Chart'!Q25)","v":""},"","",{"$f":"IF($A25=\"\",\"\",RANK($F25,$F$2:$F$100,1)+COUNTIF(F$2:F25,F25)-1)","v":""},null,null,null,{"$f":"IFERROR(INDEX(A:A,MATCH(ROWS($1:24),$G:$G,0)),IF(ROW()=2,\"None\",\"\"))","v":""},{"$f":"IFERROR(INDEX(B:B,MATCH(ROWS($1:24),$G:$G,0)),IF(ROW()=2,0,\"\"))","v":""},{"$f":"IFERROR(INDEX(D:D,MATCH(ROWS($1:24),$G:$G,0)),IF(ROW()=2,0,\"\"))","v":""}]
[{"$f":"IF('Tornado Chart'!N26=\"\",\"\",'Tornado Chart'!N26)","v":""},{"$f":"IF('Tornado Chart'!O26=\"\",\"\",'Tornado Chart'!O26)","v":""},{"$f":"IF('Tornado Chart'!P26=\"\",\"\",'Tornado Chart'!P26)","v":""},{"$f":"IF('Tornado Chart'!Q26=\"\",\"\",'Tornado Chart'!Q26)","v":""},"","",{"$f":"IF($A26=\"\",\"\",RANK($F26,$F$2:$F$100,1)+COUNTIF(F$2:F26,F26)-1)","v":""},null,null,null,{"$f":"IFERROR(INDEX(A:A,MATCH(ROWS($1:25),$G:$G,0)),IF(ROW()=2,\"None\",\"\"))","v":""},{"$f":"IFERROR(INDEX(B:B,MATCH(ROWS($1:25),$G:$G,0)),IF(ROW()=2,0,\"\"))","v":""},{"$f":"IFERROR(INDEX(D:D,MATCH(ROWS($1:25),$G:$G,0)),IF(ROW()=2,0,\"\"))","v":""}]
[{"$f":"IF('Tornado Chart'!N27=\"\",\"\",'Tornado Chart'!N27)","v":""},{"$f":"IF('Tornado Chart'!O27=\"\",\"\",'Tornado Chart'!O27)","v":""},{"$f":"IF('Tornado Chart'!P27=\"\",\"\",'Tornado Chart'!P27)","v":""},{"$f":"IF('Tornado Chart'!Q27=\"\",\"\",'Tornado Chart'!Q27)","v":""},"","",{"$f":"IF($A27=\"\",\"\",RANK($F27,$F$2:$F$100,1)+COUNTIF(F$2:F27,F27)-1)","v":""},null,null,null,{"$f":"IFERROR(INDEX(A:A,MATCH(ROWS($1:26),$G:$G,0)),IF(ROW()=2,\"None\",\"\"))","v":""},{"$f":"IFERROR(INDEX(B:B,MATCH(ROWS($1:26),$G:$G,0)),IF(ROW()=2,0,\"\"))","v":""},{"$f":"IFERROR(INDEX(D:D,MATCH(ROWS($1:26),$G:$G,0)),IF(ROW()=2,0,\"\"))","v":""}]
[{"$f":"IF('Tornado Chart'!N28=\"\",\"\",'Tornado Chart'!N28)","v":""},{"$f":"IF('Tornado Chart'!O28=\"\",\"\",'Tornado Chart'!O28)","v":""},{"$f":"IF('Tornado Chart'!P28=\"\",\"\",'Tornado Chart'!P28)","v":""},{"$f":"IF('Tornado Chart'!Q28=\"\",\"\",'Tornado Chart'!Q28)","v":""},"","",{"$f":"IF($A28=\"\",\"\",RANK($F28,$F$2:$F$100,1)+COUNTIF(F$2:F28,F28)-1)","v":""},null,null,null,{"$f":"IFERROR(INDEX(A:A,MATCH(ROWS($1:27),$G:$G,0)),IF(ROW()=2,\"None\",\"\"))","v":""},{"$f":"IFERROR(INDEX(B:B,MATCH(ROWS($1:27),$G:$G,0)),IF(ROW()=2,0,\"\"))","v":""},{"$f":"IFERROR(INDEX(D:D,MATCH(ROWS($1:27),$G:$G,0)),IF(ROW()=2,0,\"\"))","v":""}]
[{"$f":"IF('Tornado Chart'!N29=\"\",\"\",'Tornado Chart'!N29)","v":""},{"$f":"IF('Tornado Chart'!O29=\"\",\"\",'Tornado Chart'!O29)","v":""},{"$f":"IF('Tornado Chart'!P29=\"\",\"\",'Tornado Chart'!P29)","v":""},{"$f":"IF('Tornado Chart'!Q29=\"\",\"\",'Tornado Chart'!Q29)","v":""},"","",{"$f":"IF($A29=\"\",\"\",RANK($F29,$F$2:$F$100,1)+COUNTIF(F$2:F29,F29)-1)","v":""},null,null,null,{"$f":"IFERROR(INDEX(A:A,MATCH(ROWS($1:28),$G:$G,0)),IF(ROW()=2,\"None\",\"\"))","v":""},{"$f":"IFERROR(INDEX(B:B,MATCH(ROWS($1:28),$G:$G,0)),IF(ROW()=2,0,\"\"))","v":""},{"$f":"IFERROR(INDEX(D:D,MATCH(ROWS($1:28),$G:$G,0)),IF(ROW()=2,0,\"\"))","v":""}]
[{"$f":"IF('Tornado Chart'!N30=\"\",\"\",'Tornado Chart'!N30)","v":""},{"$f":"IF('Tornado Chart'!O30=\"\",\"\",'Tornado Chart'!O30)","v":""},{"$f":"IF('Tornado Chart'!P30=\"\",\"\",'Tornado Chart'!P30)","v":""},{"$f":"IF('Tornado Chart'!Q30=\"\",\"\",'Tornado Chart'!Q30)","v":""},"","",{"$f":"IF($A30=\"\",\"\",RANK($F30,$F$2:$F$100,1)+COUNTIF(F$2:F30,F30)-1)","v":""},null,null,null,{"$f":"IFERROR(INDEX(A:A,MATCH(ROWS($1:29),$G:$G,0)),IF(ROW()=2,\"None\",\"\"))","v":""},{"$f":"IFERROR(INDEX(B:B,MATCH(ROWS($1:29),$G:$G,0)),IF(ROW()=2,0,\"\"))","v":""},{"$f":"IFERROR(INDEX(D:D,MATCH(ROWS($1:29),$G:$G,0)),IF(ROW()=2,0,\"\"))","v":""}]
[{"$f":"IF('Tornado Chart'!N31=\"\",\"\",'Tornado Chart'!N31)","v":""},{"$f":"IF('Tornado Chart'!O31=\"\",\"\",'Tornado Chart'!O31)","v":""},{"$f":"IF('Tornado Chart'!P31=\"\",\"\",'Tornado Chart'!P31)","v":""},{"$f":"IF('Tornado Chart'!Q31=\"\",\"\",'Tornado Chart'!Q31)","v":""},"","",{"$f":"IF($A31=\"\",\"\",RANK($F31,$F$2:$F$100,1)+COUNTIF(F$2:F31,F31)-1)","v":""},null,null,null,{"$f":"IFERROR(INDEX(A:A,MATCH(ROWS($1:30),$G:$G,0)),IF(ROW()=2,\"None\",\"\"))","v":""},{"$f":"IFERROR(INDEX(B:B,MATCH(ROWS($1:30),$G:$G,0)),IF(ROW()=2,0,\"\"))","v":""},{"$f":"IFERROR(INDEX(D:D,MATCH(ROWS($1:30),$G:$G,0)),IF(ROW()=2,0,\"\"))","v":""}]
[{"$f":"IF('Tornado Chart'!N32=\"\",\"\",'Tornado Chart'!N32)","v":""},{"$f":"IF('Tornado Chart'!O32=\"\",\"\",'Tornado Chart'!O32)","v":""},{"$f":"IF('Tornado Chart'!P32=\"\",\"\",'Tornado Chart'!P32)","v":""},{"$f":"IF('Tornado Chart'!Q32=\"\",\"\",'Tornado Chart'!Q32)","v":""},"","",{"$f":"IF($A32=\"\",\"\",RANK($F32,$F$2:$F$100,1)+COUNTIF(F$2:F32,F32)-1)","v":""},null,null,null,{"$f":"IFERROR(INDEX(A:A,MATCH(ROWS($1:31),$G:$G,0)),IF(ROW()=2,\"None\",\"\"))","v":""},{"$f":"IFERROR(INDEX(B:B,MATCH(ROWS($1:31),$G:$G,0)),IF(ROW()=2,0,\"\"))","v":""},{"$f":"IFERROR(INDEX(D:D,MATCH(ROWS($1:31),$G:$G,0)),IF(ROW()=2,0,\"\"))","v":""}]
[{"$f":"IF('Tornado Chart'!N33=\"\",\"\",'Tornado Chart'!N33)","v":""},{"$f":"IF('Tornado Chart'!O33=\"\",\"\",'Tornado Chart'!O33)","v":""},{"$f":"IF('Tornado Chart'!P33=\"\",\"\",'Tornado Chart'!P33)","v":""},{"$f":"IF('Tornado Chart'!Q33=\"\",\"\",'Tornado Chart'!Q33)","v":""},"","",{"$f":"IF($A33=\"\",\"\",RANK($F33,$F$2:$F$100,1)+COUNTIF(F$2:F33,F33)-1)","v":""},null,null,null,{"$f":"IFERROR(INDEX(A:A,MATCH(ROWS($1:32),$G:$G,0)),IF(ROW()=2,\"None\",\"\"))","v":""},{"$f":"IFERROR(INDEX(B:B,MATCH(ROWS($1:32),$G:$G,0)),IF(ROW()=2,0,\"\"))","v":""},{"$f":"IFERROR(INDEX(D:D,MATCH(ROWS($1:32),$G:$G,0)),IF(ROW()=2,0,\"\"))","v":""}]
[{"$f":"IF('Tornado Chart'!N34=\"\",\"\",'Tornado Chart'!N34)","v":""},{"$f":"IF('Tornado Chart'!O34=\"\",\"\",'Tornado Chart'!O34)","v":""},{"$f":"IF('Tornado Chart'!P34=\"\",\"\",'Tornado Chart'!P34)","v":""},{"$f":"IF('Tornado Chart'!Q34=\"\",\"\",'Tornado Chart'!Q34)","v":""},"","",{"$f":"IF($A34=\"\",\"\",RANK($F34,$F$2:$F$100,1)+COUNTIF(F$2:F34,F34)-1)","v":""},null,null,null,{"$f":"IFERROR(INDEX(A:A,MATCH(ROWS($1:33),$G:$G,0)),IF(ROW()=2,\"None\",\"\"))","v":""},{"$f":"IFERROR(INDEX(B:B,MATCH(ROWS($1:33),$G:$G,0)),IF(ROW()=2,0,\"\"))","v":""},{"$f":"IFERROR(INDEX(D:D,MATCH(ROWS($1:33),$G:$G,0)),IF(ROW()=2,0,\"\"))","v":""}]
[{"$f":"IF('Tornado Chart'!N35=\"\",\"\",'Tornado Chart'!N35)","v":""},{"$f":"IF('Tornado Chart'!O35=\"\",\"\",'Tornado Chart'!O35)","v":""},{"$f":"IF('Tornado Chart'!P35=\"\",\"\",'Tornado Chart'!P35)","v":""},{"$f":"IF('Tornado Chart'!Q35=\"\",\"\",'Tornado Chart'!Q35)","v":""},"","",{"$f":"IF($A35=\"\",\"\",RANK($F35,$F$2:$F$100,1)+COUNTIF(F$2:F35,F35)-1)","v":""},null,null,null,{"$f":"IFERROR(INDEX(A:A,MATCH(ROWS($1:34),$G:$G,0)),IF(ROW()=2,\"None\",\"\"))","v":""},{"$f":"IFERROR(INDEX(B:B,MATCH(ROWS($1:34),$G:$G,0)),IF(ROW()=2,0,\"\"))","v":""},{"$f":"IFERROR(INDEX(D:D,MATCH(ROWS($1:34),$G:$G,0)),IF(ROW()=2,0,\"\"))","v":""}]
[{"$f":"IF('Tornado Chart'!N36=\"\",\"\",'Tornado Chart'!N36)","v":""},{"$f":"IF('Tornado Chart'!O36=\"\",\"\",'Tornado Chart'!O36)","v":""},{"$f":"IF('Tornado Chart'!P36=\"\",\"\",'Tornado Chart'!P36)","v":""},{"$f":"IF('Tornado Chart'!Q36=\"\",\"\",'Tornado Chart'!Q36)","v":""},"","",{"$f":"IF($A36=\"\",\"\",RANK($F36,$F$2:$F$100,1)+COUNTIF(F$2:F36,F36)-1)","v":""},null,null,null,{"$f":"IFERROR(INDEX(A:A,MATCH(ROWS($1:35),$G:$G,0)),IF(ROW()=2,\"None\",\"\"))","v":""},{"$f":"IFERROR(INDEX(B:B,MATCH(ROWS($1:35),$G:$G,0)),IF(ROW()=2,0,\"\"))","v":""},{"$f":"IFERROR(INDEX(D:D,MATCH(ROWS($1:35),$G:$G,0)),IF(ROW()=2,0,\"\"))","v":""}]
[{"$f":"IF('Tornado Chart'!N37=\"\",\"\",'Tornado Chart'!N37)","v":""},{"$f":"IF('Tornado Chart'!O37=\"\",\"\",'Tornado Chart'!O37)","v":""},{"$f":"IF('Tornado Chart'!P37=\"\",\"\",'Tornado Chart'!P37)","v":""},{"$f":"IF('Tornado Chart'!Q37=\"\",\"\",'Tornado Chart'!Q37)","v":""},"","",{"$f":"IF($A37=\"\",\"\",RANK($F37,$F$2:$F$100,1)+COUNTIF(F$2:F37,F37)-1)","v":""},null,null,null,{"$f":"IFERROR(INDEX(A:A,MATCH(ROWS($1:36),$G:$G,0)),IF(ROW()=2,\"None\",\"\"))","v":""},{"$f":"IFERROR(INDEX(B:B,MATCH(ROWS($1:36),$G:$G,0)),IF(ROW()=2,0,\"\"))","v":""},{"$f":"IFERROR(INDEX(D:D,MATCH(ROWS($1:36),$G:$G,0)),IF(ROW()=2,0,\"\"))","v":""}]
[{"$f":"IF('Tornado Chart'!N38=\"\",\"\",'Tornado Chart'!N38)","v":""},{"$f":"IF('Tornado Chart'!O38=\"\",\"\",'Tornado Chart'!O38)","v":""},{"$f":"IF('Tornado Chart'!P38=\"\",\"\",'Tornado Chart'!P38)","v":""},{"$f":"IF('Tornado Chart'!Q38=\"\",\"\",'Tornado Chart'!Q38)","v":""},"","",{"$f":"IF($A38=\"\",\"\",RANK($F38,$F$2:$F$100,1)+COUNTIF(F$2:F38,F38)-1)","v":""},null,null,null,{"$f":"IFERROR(INDEX(A:A,MATCH(ROWS($1:37),$G:$G,0)),IF(ROW()=2,\"None\",\"\"))","v":""},{"$f":"IFERROR(INDEX(B:B,MATCH(ROWS($1:37),$G:$G,0)),IF(ROW()=2,0,\"\"))","v":""},{"$f":"IFERROR(INDEX(D:D,MATCH(ROWS($1:37),$G:$G,0)),IF(ROW()=2,0,\"\"))","v":""}]
[{"$f":"IF('Tornado Chart'!N39=\"\",\"\",'Tornado Chart'!N39)","v":""},{"$f":"IF('Tornado Chart'!O39=\"\",\"\",'Tornado Chart'!O39)","v":""},{"$f":"IF('Tornado Chart'!P39=\"\",\"\",'Tornado Chart'!P39)","v":""},{"$f":"IF('Tornado Chart'!Q39=\"\",\"\",'Tornado Chart'!Q39)","v":""},"","",{"$f":"IF($A39=\"\",\"\",RANK($F39,$F$2:$F$100,1)+COUNTIF(F$2:F39,F39)-1)","v":""},null,null,null,{"$f":"IFERROR(INDEX(A:A,MATCH(ROWS($1:38),$G:$G,0)),IF(ROW()=2,\"None\",\"\"))","v":""},{"$f":"IFERROR(INDEX(B:B,MATCH(ROWS($1:38),$G:$G,0)),IF(ROW()=2,0,\"\"))","v":""},{"$f":"IFERROR(INDEX(D:D,MATCH(ROWS($1:38),$G:$G,0)),IF(ROW()=2,0,\"\"))","v":""}]
[{"$f":"IF('Tornado Chart'!N40=\"\",\"\",'Tornado Chart'!N40)","v":""},{"$f":"IF('Tornado Chart'!O40=\"\",\"\",'Tornado Chart'!O40)","v":""},{"$f":"IF('Tornado Chart'!P40=\"\",\"\",'Tornado Chart'!P40)","v":""},{"$f":"IF('Tornado Chart'!Q40=\"\",\"\",'Tornado Chart'!Q40)","v":""},"","",{"$f":"IF($A40=\"\",\"\",RANK($F40,$F$2:$F$100,1)+COUNTIF(F$2:F40,F40)-1)","v":""},null,null,null,{"$f":"IFERROR(INDEX(A:A,MATCH(ROWS($1:39),$G:$G,0)),IF(ROW()=2,\"None\",\"\"))","v":""},{"$f":"IFERROR(INDEX(B:B,MATCH(ROWS($1:39),$G:$G,0)),IF(ROW()=2,0,\"\"))","v":""},{"$f":"IFERROR(INDEX(D:D,MATCH(ROWS($1:39),$G:$G,0)),IF(ROW()=2,0,\"\"))","v":""}]
[{"$f":"IF('Tornado Chart'!N41=\"\",\"\",'Tornado Chart'!N41)","v":""},{"$f":"IF('Tornado Chart'!O41=\"\",\"\",'Tornado Chart'!O41)","v":""},{"$f":"IF('Tornado Chart'!P41=\"\",\"\",'Tornado Chart'!P41)","v":""},{"$f":"IF('Tornado Chart'!Q41=\"\",\"\",'Tornado Chart'!Q41)","v":""},"","",{"$f":"IF($A41=\"\",\"\",RANK($F41,$F$2:$F$100,1)+COUNTIF(F$2:F41,F41)-1)","v":""},null,null,null,{"$f":"IFERROR(INDEX(A:A,MATCH(ROWS($1:40),$G:$G,0)),IF(ROW()=2,\"None\",\"\"))","v":""},{"$f":"IFERROR(INDEX(B:B,MATCH(ROWS($1:40),$G:$G,0)),IF(ROW()=2,0,\"\"))","v":""},{"$f":"IFERROR(INDEX(D:D,MATCH(ROWS($1:40),$G:$G,0)),IF(ROW()=2,0,\"\"))","v":""}]
[{"$f":"IF('Tornado Chart'!N42=\"\",\"\",'Tornado Chart'!N42)","v":""},{"$f":"IF('Tornado Chart'!O42=\"\",\"\",'Tornado Chart'!O42)","v":""},{"$f":"IF('Tornado Chart'!P42=\"\",\"\",'Tornado Chart'!P42)","v":""},{"$f":"IF('Tornado Chart'!Q42=\"\",\"\",'Tornado Chart'!Q42)","v":""},"","",{"$f":"IF($A42=\"\",\"\",RANK($F42,$F$2:$F$100,1)+COUNTIF(F$2:F42,F42)-1)","v":""},null,null,null,{"$f":"IFERROR(INDEX(A:A,MATCH(ROWS($1:41),$G:$G,0)),IF(ROW()=2,\"None\",\"\"))","v":""},{"$f":"IFERROR(INDEX(B:B,MATCH(ROWS($1:41),$G:$G,0)),IF(ROW()=2,0,\"\"))","v":""},{"$f":"IFERROR(INDEX(D:D,MATCH(ROWS($1:41),$G:$G,0)),IF(ROW()=2,0,\"\"))","v":""}]
[{"$f":"IF('Tornado Chart'!N43=\"\",\"\",'Tornado Chart'!N43)","v":""},{"$f":"IF('Tornado Chart'!O43=\"\",\"\",'Tornado Chart'!O43)","v":""},{"$f":"IF('Tornado Chart'!P43=\"\",\"\",'Tornado Chart'!P43)","v":""},{"$f":"IF('Tornado Chart'!Q43=\"\",\"\",'Tornado Chart'!Q43)","v":""},"","",{"$f":"IF($A43=\"\",\"\",RANK($F43,$F$2:$F$100,1)+COUNTIF(F$2:F43,F43)-1)","v":""},null,null,null,{"$f":"IFERROR(INDEX(A:A,MATCH(ROWS($1:42),$G:$G,0)),IF(ROW()=2,\"None\",\"\"))","v":""},{"$f":"IFERROR(INDEX(B:B,MATCH(ROWS($1:42),$G:$G,0)),IF(ROW()=2,0,\"\"))","v":""},{"$f":"IFERROR(INDEX(D:D,MATCH(ROWS($1:42),$G:$G,0)),IF(ROW()=2,0,\"\"))","v":""}]
[{"$f":"IF('Tornado Chart'!N44=\"\",\"\",'Tornado Chart'!N44)","v":""},{"$f":"IF('Tornado Chart'!O44=\"\",\"\",'Tornado Chart'!O44)","v":""},{"$f":"IF('Tornado Chart'!P44=\"\",\"\",'Tornado Chart'!P44)","v":""},{"$f":"IF('Tornado Chart'!Q44=\"\",\"\",'Tornado Chart'!Q44)","v":""},"","",{"$f":"IF($A44=\"\",\"\",RANK($F44,$F$2:$F$100,1)+COUNTIF(F$2:F44,F44)-1)","v":""},null,null,null,{"$f":"IFERROR(INDEX(A:A,MATCH(ROWS($1:43),$G:$G,0)),IF(ROW()=2,\"None\",\"\"))","v":""},{"$f":"IFERROR(INDEX(B:B,MATCH(ROWS($1:43),$G:$G,0)),IF(ROW()=2,0,\"\"))","v":""},{"$f":"IFERROR(INDEX(D:D,MATCH(ROWS($1:43),$G:$G,0)),IF(ROW()=2,0,\"\"))","v":""}]
[{"$f":"IF('Tornado Chart'!N45=\"\",\"\",'Tornado Chart'!N45)","v":""},{"$f":"IF('Tornado Chart'!O45=\"\",\"\",'Tornado Chart'!O45)","v":""},{"$f":"IF('Tornado Chart'!P45=\"\",\"\",'Tornado Chart'!P45)","v":""},{"$f":"IF('Tornado Chart'!Q45=\"\",\"\",'Tornado Chart'!Q45)","v":""},"","",{"$f":"IF($A45=\"\",\"\",RANK($F45,$F$2:$F$100,1)+COUNTIF(F$2:F45,F45)-1)","v":""},null,null,null,{"$f":"IFERROR(INDEX(A:A,MATCH(ROWS($1:44),$G:$G,0)),IF(ROW()=2,\"None\",\"\"))","v":""},{"$f":"IFERROR(INDEX(B:B,MATCH(ROWS($1:44),$G:$G,0)),IF(ROW()=2,0,\"\"))","v":""},{"$f":"IFERROR(INDEX(D:D,MATCH(ROWS($1:44),$G:$G,0)),IF(ROW()=2,0,\"\"))","v":""}]
[{"$f":"IF('Tornado Chart'!N46=\"\",\"\",'Tornado Chart'!N46)","v":""},{"$f":"IF('Tornado Chart'!O46=\"\",\"\",'Tornado Chart'!O46)","v":""},{"$f":"IF('Tornado Chart'!P46=\"\",\"\",'Tornado Chart'!P46)","v":""},{"$f":"IF('Tornado Chart'!Q46=\"\",\"\",'Tornado Chart'!Q46)","v":""},"","",{"$f":"IF($A46=\"\",\"\",RANK($F46,$F$2:$F$100,1)+COUNTIF(F$2:F46,F46)-1)","v":""},null,null,null,{"$f":"IFERROR(INDEX(A:A,MATCH(ROWS($1:45),$G:$G,0)),IF(ROW()=2,\"None\",\"\"))","v":""},{"$f":"IFERROR(INDEX(B:B,MATCH(ROWS($1:45),$G:$G,0)),IF(ROW()=2,0,\"\"))","v":""},{"$f":"IFERROR(INDEX(D:D,MATCH(ROWS($1:45),$G:$G,0)),IF(ROW()=2,0,\"\"))","v":""}]
[{"$f":"IF('Tornado Chart'!N47=\"\",\"\",'Tornado Chart'!N47)","v":""},{"$f":"IF('Tornado Chart'!O47=\"\",\"\",'Tornado Chart'!O47)","v":""},{"$f":"IF('Tornado Chart'!P47=\"\",\"\",'Tornado Chart'!P47)","v":""},{"$f":"IF('Tornado Chart'!Q47=\"\",\"\",'Tornado Chart'!Q47)","v":""},"","",{"$f":"IF($A47=\"\",\"\",RANK($F47,$F$2:$F$100,1)+COUNTIF(F$2:F47,F47)-1)","v":""},null,null,null,{"$f":"IFERROR(INDEX(A:A,MATCH(ROWS($1:46),$G:$G,0)),IF(ROW()=2,\"None\",\"\"))","v":""},{"$f":"IFERROR(INDEX(B:B,MATCH(ROWS($1:46),$G:$G,0)),IF(ROW()=2,0,\"\"))","v":""},{"$f":"IFERROR(INDEX(D:D,MATCH(ROWS($1:46),$G:$G,0)),IF(ROW()=2,0,\"\"))","v":""}]
[{"$f":"IF('Tornado Chart'!N48=\"\",\"\",'Tornado Chart'!N48)","v":""},{"$f":"IF('Tornado Chart'!O48=\"\",\"\",'Tornado Chart'!O48)","v":""},{"$f":"IF('Tornado Chart'!P48=\"\",\"\",'Tornado Chart'!P48)","v":""},{"$f":"IF('Tornado Chart'!Q48=\"\",\"\",'Tornado Chart'!Q48)","v":""},"","",{"$f":"IF($A48=\"\",\"\",RANK($F48,$F$2:$F$100,1)+COUNTIF(F$2:F48,F48)-1)","v":""},null,null,null,{"$f":"IFERROR(INDEX(A:A,MATCH(ROWS($1:47),$G:$G,0)),IF(ROW()=2,\"None\",\"\"))","v":""},{"$f":"IFERROR(INDEX(B:B,MATCH(ROWS($1:47),$G:$G,0)),IF(ROW()=2,0,\"\"))","v":""},{"$f":"IFERROR(INDEX(D:D,MATCH(ROWS($1:47),$G:$G,0)),IF(ROW()=2,0,\"\"))","v":""}]
[{"$f":"IF('Tornado Chart'!N49=\"\",\"\",'Tornado Chart'!N49)","v":""},{"$f":"IF('Tornado Chart'!O49=\"\",\"\",'Tornado Chart'!O49)","v":""},{"$f":"IF('Tornado Chart'!P49=\"\",\"\",'Tornado Chart'!P49)","v":""},{"$f":"IF('Tornado Chart'!Q49=\"\",\"\",'Tornado Chart'!Q49)","v":""},"","",{"$f":"IF($A49=\"\",\"\",RANK($F49,$F$2:$F$100,1)+COUNTIF(F$2:F49,F49)-1)","v":""},null,null,null,{"$f":"IFERROR(INDEX(A:A,MATCH(ROWS($1:48),$G:$G,0)),IF(ROW()=2,\"None\",\"\"))","v":""},{"$f":"IFERROR(INDEX(B:B,MATCH(ROWS($1:48),$G:$G,0)),IF(ROW()=2,0,\"\"))","v":""},{"$f":"IFERROR(INDEX(D:D,MATCH(ROWS($1:48),$G:$G,0)),IF(ROW()=2,0,\"\"))","v":""}]
[{"$f":"IF('Tornado Chart'!N50=\"\",\"\",'Tornado Chart'!N50)","v":""},{"$f":"IF('Tornado Chart'!O50=\"\",\"\",'Tornado Chart'!O50)","v":""},{"$f":"IF('Tornado Chart'!P50=\"\",\"\",'Tornado Chart'!P50)","v":""},{"$f":"IF('Tornado Chart'!Q50=\"\",\"\",'Tornado Chart'!Q50)","v":""},"","",{"$f":"IF($A50=\"\",\"\",RANK($F50,$F$2:$F$100,1)+COUNTIF(F$2:F50,F50)-1)","v":""},null,null,null,{"$f":"IFERROR(INDEX(A:A,MATCH(ROWS($1:49),$G:$G,0)),IF(ROW()=2,\"None\",\"\"))","v":""},{"$f":"IFERROR(INDEX(B:B,MATCH(ROWS($1:49),$G:$G,0)),IF(ROW()=2,0,\"\"))","v":""},{"$f":"IFERROR(INDEX(D:D,MATCH(ROWS($1:49),$G:$G,0)),IF(ROW()=2,0,\"\"))","v":""}]
[{"$f":"IF('Tornado Chart'!N51=\"\",\"\",'Tornado Chart'!N51)","v":""},{"$f":"IF('Tornado Chart'!O51=\"\",\"\",'Tornado Chart'!O51)","v":""},{"$f":"IF('Tornado Chart'!P51=\"\",\"\",'Tornado Chart'!P51)","v":""},{"$f":"IF('Tornado Chart'!Q51=\"\",\"\",'Tornado Chart'!Q51)","v":""},"","",{"$f":"IF($A51=\"\",\"\",RANK($F51,$F$2:$F$100,1)+COUNTIF(F$2:F51,F51)-1)","v":""},null,null,null,{"$f":"IFERROR(INDEX(A:A,MATCH(ROWS($1:50),$G:$G,0)),IF(ROW()=2,\"None\",\"\"))","v":""},{"$f":"IFERROR(INDEX(B:B,MATCH(ROWS($1:50),$G:$G,0)),IF(ROW()=2,0,\"\"))","v":""},{"$f":"IFERROR(INDEX(D:D,MATCH(ROWS($1:50),$G:$G,0)),IF(ROW()=2,0,\"\"))","v":""}]
[{"$f":"IF('Tornado Chart'!N52=\"\",\"\",'Tornado Chart'!N52)","v":""},{"$f":"IF('Tornado Chart'!O52=\"\",\"\",'Tornado Chart'!O52)","v":""},{"$f":"IF('Tornado Chart'!P52=\"\",\"\",'Tornado Chart'!P52)","v":""},{"$f":"IF('Tornado Chart'!Q52=\"\",\"\",'Tornado Chart'!Q52)","v":""},"","",{"$f":"IF($A52=\"\",\"\",RANK($F52,$F$2:$F$100,1)+COUNTIF(F$2:F52,F52)-1)","v":""},null,null,null,{"$f":"IFERROR(INDEX(A:A,MATCH(ROWS($1:51),$G:$G,0)),IF(ROW()=2,\"None\",\"\"))","v":""},{"$f":"IFERROR(INDEX(B:B,MATCH(ROWS($1:51),$G:$G,0)),IF(ROW()=2,0,\"\"))","v":""},{"$f":"IFERROR(INDEX(D:D,MATCH(ROWS($1:51),$G:$G,0)),IF(ROW()=2,0,\"\"))","v":""}]
[{"$f":"IF('Tornado Chart'!N53=\"\",\"\",'Tornado Chart'!N53)","v":""},{"$f":"IF('Tornado Chart'!O53=\"\",\"\",'Tornado Chart'!O53)","v":""},{"$f":"IF('Tornado Chart'!P53=\"\",\"\",'Tornado Chart'!P53)","v":""},{"$f":"IF('Tornado Chart'!Q53=\"\",\"\",'Tornado Chart'!Q53)","v":""},"","",{"$f":"IF($A53=\"\",\"\",RANK($F53,$F$2:$F$100,1)+COUNTIF(F$2:F53,F53)-1)","v":""},null,null,null,{"$f":"IFERROR(INDEX(A:A,MATCH(ROWS($1:52),$G:$G,0)),IF(ROW()=2,\"None\",\"\"))","v":""},{"$f":"IFERROR(INDEX(B:B,MATCH(ROWS($1:52),$G:$G,0)),IF(ROW()=2,0,\"\"))","v":""},{"$f":"IFERROR(INDEX(D:D,MATCH(ROWS($1:52),$G:$G,0)),IF(ROW()=2,0,\"\"))","v":""}]
[{"$f":"IF('Tornado Chart'!N54=\"\",\"\",'Tornado Chart'!N54)","v":""},{"$f":"IF('Tornado Chart'!O54=\"\",\"\",'Tornado Chart'!O54)","v":""},{"$f":"IF('Tornado Chart'!P54=\"\",\"\",'Tornado Chart'!P54)","v":""},{"$f":"IF('Tornado Chart'!Q54=\"\",\"\",'Tornado Chart'!Q54)","v":""},"","",{"$f":"IF($A54=\"\",\"\",RANK($F54,$F$2:$F$100,1)+COUNTIF(F$2:F54,F54)-1)","v":""},null,null,null,{"$f":"IFERROR(INDEX(A:A,MATCH(ROWS($1:53),$G:$G,0)),IF(ROW()=2,\"None\",\"\"))","v":""},{"$f":"IFERROR(INDEX(B:B,MATCH(ROWS($1:53),$G:$G,0)),IF(ROW()=2,0,\"\"))","v":""},{"$f":"IFERROR(INDEX(D:D,MATCH(ROWS($1:53),$G:$G,0)),IF(ROW()=2,0,\"\"))","v":""}]
[{"$f":"IF('Tornado Chart'!N55=\"\",\"\",'Tornado Chart'!N55)","v":""},{"$f":"IF('Tornado Chart'!O55=\"\",\"\",'Tornado Chart'!O55)","v":""},{"$f":"IF('Tornado Chart'!P55=\"\",\"\",'Tornado Chart'!P55)","v":""},{"$f":"IF('Tornado Chart'!Q55=\"\",\"\",'Tornado Chart'!Q55)","v":""},"","",{"$f":"IF($A55=\"\",\"\",RANK($F55,$F$2:$F$100,1)+COUNTIF(F$2:F55,F55)-1)","v":""},null,null,null,{"$f":"IFERROR(INDEX(A:A,MATCH(ROWS($1:54),$G:$G,0)),IF(ROW()=2,\"None\",\"\"))","v":""},{"$f":"IFERROR(INDEX(B:B,MATCH(ROWS($1:54),$G:$G,0)),IF(ROW()=2,0,\"\"))","v":""},{"$f":"IFERROR(INDEX(D:D,MATCH(ROWS($1:54),$G:$G,0)),IF(ROW()=2,0,\"\"))","v":""}]
[{"$f":"IF('Tornado Chart'!N56=\"\",\"\",'Tornado Chart'!N56)","v":""},{"$f":"IF('Tornado Chart'!O56=\"\",\"\",'Tornado Chart'!O56)","v":""},{"$f":"IF('Tornado Chart'!P56=\"\",\"\",'Tornado Chart'!P56)","v":""},{"$f":"IF('Tornado Chart'!Q56=\"\",\"\",'Tornado Chart'!Q56)","v":""},"","",{"$f":"IF($A56=\"\",\"\",RANK($F56,$F$2:$F$100,1)+COUNTIF(F$2:F56,F56)-1)","v":""},null,null,null,{"$f":"IFERROR(INDEX(A:A,MATCH(ROWS($1:55),$G:$G,0)),IF(ROW()=2,\"None\",\"\"))","v":""},{"$f":"IFERROR(INDEX(B:B,MATCH(ROWS($1:55),$G:$G,0)),IF(ROW()=2,0,\"\"))","v":""},{"$f":"IFERROR(INDEX(D:D,MATCH(ROWS($1:55),$G:$G,0)),IF(ROW()=2,0,\"\"))","v":""}]
[{"$f":"IF('Tornado Chart'!N57=\"\",\"\",'Tornado Chart'!N57)","v":""},{"$f":"IF('Tornado Chart'!O57=\"\",\"\",'Tornado Chart'!O57)","v":""},{"$f":"IF('Tornado Chart'!P57=\"\",\"\",'Tornado Chart'!P57)","v":""},{"$f":"IF('Tornado Chart'!Q57=\"\",\"\",'Tornado Chart'!Q57)","v":""},"","",{"$f":"IF($A57=\"\",\"\",RANK($F57,$F$2:$F$100,1)+COUNTIF(F$2:F57,F57)-1)","v":""},null,null,null,{"$f":"IFERROR(INDEX(A:A,MATCH(ROWS($1:56),$G:$G,0)),IF(ROW()=2,\"None\",\"\"))","v":""},{"$f":"IFERROR(INDEX(B:B,MATCH(ROWS($1:56),$G:$G,0)),IF(ROW()=2,0,\"\"))","v":""},{"$f":"IFERROR(INDEX(D:D,MATCH(ROWS($1:56),$G:$G,0)),IF(ROW()=2,0,\"\"))","v":""}]
[{"$f":"IF('Tornado Chart'!N58=\"\",\"\",'Tornado Chart'!N58)","v":""},{"$f":"IF('Tornado Chart'!O58=\"\",\"\",'Tornado Chart'!O58)","v":""},{"$f":"IF('Tornado Chart'!P58=\"\",\"\",'Tornado Chart'!P58)","v":""},{"$f":"IF('Tornado Chart'!Q58=\"\",\"\",'Tornado Chart'!Q58)","v":""},"","",{"$f":"IF($A58=\"\",\"\",RANK($F58,$F$2:$F$100,1)+COUNTIF(F$2:F58,F58)-1)","v":""},null,null,null,{"$f":"IFERROR(INDEX(A:A,MATCH(ROWS($1:57),$G:$G,0)),IF(ROW()=2,\"None\",\"\"))","v":""},{"$f":"IFERROR(INDEX(B:B,MATCH(ROWS($1:57),$G:$G,0)),IF(ROW()=2,0,\"\"))","v":""},{"$f":"IFERROR(INDEX(D:D,MATCH(ROWS($1:57),$G:$G,0)),IF(ROW()=2,0,\"\"))","v":""}]
[{"$f":"IF('Tornado Chart'!N59=\"\",\"\",'Tornado Chart'!N59)","v":""},{"$f":"IF('Tornado Chart'!O59=\"\",\"\",'Tornado Chart'!O59)","v":""},{"$f":"IF('Tornado Chart'!P59=\"\",\"\",'Tornado Chart'!P59)","v":""},{"$f":"IF('Tornado Chart'!Q59=\"\",\"\",'Tornado Chart'!Q59)","v":""},"","",{"$f":"IF($A59=\"\",\"\",RANK($F59,$F$2:$F$100,1)+COUNTIF(F$2:F59,F59)-1)","v":""},null,null,null,{"$f":"IFERROR(INDEX(A:A,MATCH(ROWS($1:58),$G:$G,0)),IF(ROW()=2,\"None\",\"\"))","v":""},{"$f":"IFERROR(INDEX(B:B,MATCH(ROWS($1:58),$G:$G,0)),IF(ROW()=2,0,\"\"))","v":""},{"$f":"IFERROR(INDEX(D:D,MATCH(ROWS($1:58),$G:$G,0)),IF(ROW()=2,0,\"\"))","v":""}]
[{"$f":"IF('Tornado Chart'!N60=\"\",\"\",'Tornado Chart'!N60)","v":""},{"$f":"IF('Tornado Chart'!O60=\"\",\"\",'Tornado Chart'!O60)","v":""},{"$f":"IF('Tornado Chart'!P60=\"\",\"\",'Tornado Chart'!P60)","v":""},{"$f":"IF('Tornado Chart'!Q60=\"\",\"\",'Tornado Chart'!Q60)","v":""},"","",{"$f":"IF($A60=\"\",\"\",RANK($F60,$F$2:$F$100,1)+COUNTIF(F$2:F60,F60)-1)","v":""},null,null,null,{"$f":"IFERROR(INDEX(A:A,MATCH(ROWS($1:59),$G:$G,0)),IF(ROW()=2,\"None\",\"\"))","v":""},{"$f":"IFERROR(INDEX(B:B,MATCH(ROWS($1:59),$G:$G,0)),IF(ROW()=2,0,\"\"))","v":""},{"$f":"IFERROR(INDEX(D:D,MATCH(ROWS($1:59),$G:$G,0)),IF(ROW()=2,0,\"\"))","v":""}]
[{"$f":"IF('Tornado Chart'!N61=\"\",\"\",'Tornado Chart'!N61)","v":""},{"$f":"IF('Tornado Chart'!O61=\"\",\"\",'Tornado Chart'!O61)","v":""},{"$f":"IF('Tornado Chart'!P61=\"\",\"\",'Tornado Chart'!P61)","v":""},{"$f":"IF('Tornado Chart'!Q61=\"\",\"\",'Tornado Chart'!Q61)","v":""},"","",{"$f":"IF($A61=\"\",\"\",RANK($F61,$F$2:$F$100,1)+COUNTIF(F$2:F61,F61)-1)","v":""},null,null,null,{"$f":"IFERROR(INDEX(A:A,MATCH(ROWS($1:60),$G:$G,0)),IF(ROW()=2,\"None\",\"\"))","v":""},{"$f":"IFERROR(INDEX(B:B,MATCH(ROWS($1:60),$G:$G,0)),IF(ROW()=2,0,\"\"))","v":""},{"$f":"IFERROR(INDEX(D:D,MATCH(ROWS($1:60),$G:$G,0)),IF(ROW()=2,0,\"\"))","v":""}]
[{"$f":"IF('Tornado Chart'!N62=\"\",\"\",'Tornado Chart'!N62)","v":""},{"$f":"IF('Tornado Chart'!O62=\"\",\"\",'Tornado Chart'!O62)","v":""},{"$f":"IF('Tornado Chart'!P62=\"\",\"\",'Tornado Chart'!P62)","v":""},{"$f":"IF('Tornado Chart'!Q62=\"\",\"\",'Tornado Chart'!Q62)","v":""},"","",{"$f":"IF($A62=\"\",\"\",RANK($F62,$F$2:$F$100,1)+COUNTIF(F$2:F62,F62)-1)","v":""},null,null,null,{"$f":"IFERROR(INDEX(A:A,MATCH(ROWS($1:61),$G:$G,0)),IF(ROW()=2,\"None\",\"\"))","v":""},{"$f":"IFERROR(INDEX(B:B,MATCH(ROWS($1:61),$G:$G,0)),IF(ROW()=2,0,\"\"))","v":""},{"$f":"IFERROR(INDEX(D:D,MATCH(ROWS($1:61),$G:$G,0)),IF(ROW()=2,0,\"\"))","v":""}]
[{"$f":"IF('Tornado Chart'!N63=\"\",\"\",'Tornado Chart'!N63)","v":""},{"$f":"IF('Tornado Chart'!O63=\"\",\"\",'Tornado Chart'!O63)","v":""},{"$f":"IF('Tornado Chart'!P63=\"\",\"\",'Tornado Chart'!P63)","v":""},{"$f":"IF('Tornado Chart'!Q63=\"\",\"\",'Tornado Chart'!Q63)","v":""},"","",{"$f":"IF($A63=\"\",\"\",RANK($F63,$F$2:$F$100,1)+COUNTIF(F$2:F63,F63)-1)","v":""},null,null,null,{"$f":"IFERROR(INDEX(A:A,MATCH(ROWS($1:62),$G:$G,0)),IF(ROW()=2,\"None\",\"\"))","v":""},{"$f":"IFERROR(INDEX(B:B,MATCH(ROWS($1:62),$G:$G,0)),IF(ROW()=2,0,\"\"))","v":""},{"$f":"IFERROR(INDEX(D:D,MATCH(ROWS($1:62),$G:$G,0)),IF(ROW()=2,0,\"\"))","v":""}]
[{"$f":"IF('Tornado Chart'!N64=\"\",\"\",'Tornado Chart'!N64)","v":""},{"$f":"IF('Tornado Chart'!O64=\"\",\"\",'Tornado Chart'!O64)","v":""},{"$f":"IF('Tornado Chart'!P64=\"\",\"\",'Tornado Chart'!P64)","v":""},{"$f":"IF('Tornado Chart'!Q64=\"\",\"\",'Tornado Chart'!Q64)","v":""},"","",{"$f":"IF($A64=\"\",\"\",RANK($F64,$F$2:$F$100,1)+COUNTIF(F$2:F64,F64)-1)","v":""},null,null,null,{"$f":"IFERROR(INDEX(A:A,MATCH(ROWS($1:63),$G:$G,0)),IF(ROW()=2,\"None\",\"\"))","v":""},{"$f":"IFERROR(INDEX(B:B,MATCH(ROWS($1:63),$G:$G,0)),IF(ROW()=2,0,\"\"))","v":""},{"$f":"IFERROR(INDEX(D:D,MATCH(ROWS($1:63),$G:$G,0)),IF(ROW()=2,0,\"\"))","v":""}]
[{"$f":"IF('Tornado Chart'!N65=\"\",\"\",'Tornado Chart'!N65)","v":""},{"$f":"IF('Tornado Chart'!O65=\"\",\"\",'Tornado Chart'!O65)","v":""},{"$f":"IF('Tornado Chart'!P65=\"\",\"\",'Tornado Chart'!P65)","v":""},{"$f":"IF('Tornado Chart'!Q65=\"\",\"\",'Tornado Chart'!Q65)","v":""},"","",{"$f":"IF($A65=\"\",\"\",RANK($F65,$F$2:$F$100,1)+COUNTIF(F$2:F65,F65)-1)","v":""},null,null,null,{"$f":"IFERROR(INDEX(A:A,MATCH(ROWS($1:64),$G:$G,0)),IF(ROW()=2,\"None\",\"\"))","v":""},{"$f":"IFERROR(INDEX(B:B,MATCH(ROWS($1:64),$G:$G,0)),IF(ROW()=2,0,\"\"))","v":""},{"$f":"IFERROR(INDEX(D:D,MATCH(ROWS($1:64),$G:$G,0)),IF(ROW()=2,0,\"\"))","v":""}]
[{"$f":"IF('Tornado Chart'!N66=\"\",\"\",'Tornado Chart'!N66)","v":""},{"$f":"IF('Tornado Chart'!O66=\"\",\"\",'Tornado Chart'!O66)","v":""},{"$f":"IF('Tornado Chart'!P66=\"\",\"\",'Tornado Chart'!P66)","v":""},{"$f":"IF('Tornado Chart'!Q66=\"\",\"\",'Tornado Chart'!Q66)","v":""},"","",{"$f":"IF($A66=\"\",\"\",RANK($F66,$F$2:$F$100,1)+COUNTIF(F$2:F66,F66)-1)","v":""},null,null,null,{"$f":"IFERROR(INDEX(A:A,MATCH(ROWS($1:65),$G:$G,0)),IF(ROW()=2,\"None\",\"\"))","v":""},{"$f":"IFERROR(INDEX(B:B,MATCH(ROWS($1:65),$G:$G,0)),IF(ROW()=2,0,\"\"))","v":""},{"$f":"IFERROR(INDEX(D:D,MATCH(ROWS($1:65),$G:$G,0)),IF(ROW()=2,0,\"\"))","v":""}]
[{"$f":"IF('Tornado Chart'!N67=\"\",\"\",'Tornado Chart'!N67)","v":""},{"$f":"IF('Tornado Chart'!O67=\"\",\"\",'Tornado Chart'!O67)","v":""},{"$f":"IF('Tornado Chart'!P67=\"\",\"\",'Tornado Chart'!P67)","v":""},{"$f":"IF('Tornado Chart'!Q67=\"\",\"\",'Tornado Chart'!Q67)","v":""},{"$f":"IF(A67=\"\",\"\",(MAX(B67:D67)-MIN(B67:D67))^2)","v":""},{"$f":"IF(A67=\"\",\"\",E67/SUM(E:E))","v":""},{"$f":"IF($A67=\"\",\"\",RANK($F67,$F$2:$F$100,1)+COUNTIF(F$2:F67,F67)-1)","v":""},null,null,null,{"$f":"IFERROR(INDEX(A:A,MATCH(ROWS($1:66),$G:$G,0)),IF(ROW()=2,\"None\",\"\"))","v":""},{"$f":"IFERROR(INDEX(B:B,MATCH(ROWS($1:66),$G:$G,0)),IF(ROW()=2,0,\"\"))","v":""},{"$f":"IFERROR(INDEX(D:D,MATCH(ROWS($1:66),$G:$G,0)),IF(ROW()=2,0,\"\"))","v":""}]
[{"$f":"IF('Tornado Chart'!N68=\"\",\"\",'Tornado Chart'!N68)","v":""},{"$f":"IF('Tornado Chart'!O68=\"\",\"\",'Tornado Chart'!O68)","v":""},{"$f":"IF('Tornado Chart'!P68=\"\",\"\",'Tornado Chart'!P68)","v":""},{"$f":"IF('Tornado Chart'!Q68=\"\",\"\",'Tornado Chart'!Q68)","v":""},"","",{"$f":"IF($A68=\"\",\"\",RANK($F68,$F$2:$F$100,1)+COUNTIF(F$2:F68,F68)-1)","v":""},null,null,null,{"$f":"IFERROR(INDEX(A:A,MATCH(ROWS($1:67),$G:$G,0)),IF(ROW()=2,\"None\",\"\"))","v":""},{"$f":"IFERROR(INDEX(B:B,MATCH(ROWS($1:67),$G:$G,0)),IF(ROW()=2,0,\"\"))","v":""},{"$f":"IFERROR(INDEX(D:D,MATCH(ROWS($1:67),$G:$G,0)),IF(ROW()=2,0,\"\"))","v":""}]
[{"$f":"IF('Tornado Chart'!N69=\"\",\"\",'Tornado Chart'!N69)","v":""},{"$f":"IF('Tornado Chart'!O69=\"\",\"\",'Tornado Chart'!O69)","v":""},{"$f":"IF('Tornado Chart'!P69=\"\",\"\",'Tornado Chart'!P69)","v":""},{"$f":"IF('Tornado Chart'!Q69=\"\",\"\",'Tornado Chart'!Q69)","v":""},"","",{"$f":"IF($A69=\"\",\"\",RANK($F69,$F$2:$F$100,1)+COUNTIF(F$2:F69,F69)-1)","v":""},null,null,null,{"$f":"IFERROR(INDEX(A:A,MATCH(ROWS($1:68),$G:$G,0)),IF(ROW()=2,\"None\",\"\"))","v":""},{"$f":"IFERROR(INDEX(B:B,MATCH(ROWS($1:68),$G:$G,0)),IF(ROW()=2,0,\"\"))","v":""},{"$f":"IFERROR(INDEX(D:D,MATCH(ROWS($1:68),$G:$G,0)),IF(ROW()=2,0,\"\"))","v":""}]
[{"$f":"IF('Tornado Chart'!N70=\"\",\"\",'Tornado Chart'!N70)","v":""},{"$f":"IF('Tornado Chart'!O70=\"\",\"\",'Tornado Chart'!O70)","v":""},{"$f":"IF('Tornado Chart'!P70=\"\",\"\",'Tornado Chart'!P70)","v":""},{"$f":"IF('Tornado Chart'!Q70=\"\",\"\",'Tornado Chart'!Q70)","v":""},"","",{"$f":"IF($A70=\"\",\"\",RANK($F70,$F$2:$F$100,1)+COUNTIF(F$2:F70,F70)-1)","v":""},null,null,null,{"$f":"IFERROR(INDEX(A:A,MATCH(ROWS($1:69),$G:$G,0)),IF(ROW()=2,\"None\",\"\"))","v":""},{"$f":"IFERROR(INDEX(B:B,MATCH(ROWS($1:69),$G:$G,0)),IF(ROW()=2,0,\"\"))","v":""},{"$f":"IFERROR(INDEX(D:D,MATCH(ROWS($1:69),$G:$G,0)),IF(ROW()=2,0,\"\"))","v":""}]
[{"$f":"IF('Tornado Chart'!N71=\"\",\"\",'Tornado Chart'!N71)","v":""},{"$f":"IF('Tornado Chart'!O71=\"\",\"\",'Tornado Chart'!O71)","v":""},{"$f":"IF('Tornado Chart'!P71=\"\",\"\",'Tornado Chart'!P71)","v":""},{"$f":"IF('Tornado Chart'!Q71=\"\",\"\",'Tornado Chart'!Q71)","v":""},"","",{"$f":"IF($A71=\"\",\"\",RANK($F71,$F$2:$F$100,1)+COUNTIF(F$2:F71,F71)-1)","v":""},null,null,null,{"$f":"IFERROR(INDEX(A:A,MATCH(ROWS($1:70),$G:$G,0)),IF(ROW()=2,\"None\",\"\"))","v":""},{"$f":"IFERROR(INDEX(B:B,MATCH(ROWS($1:70),$G:$G,0)),IF(ROW()=2,0,\"\"))","v":""},{"$f":"IFERROR(INDEX(D:D,MATCH(ROWS($1:70),$G:$G,0)),IF(ROW()=2,0,\"\"))","v":""}]
[{"$f":"IF('Tornado Chart'!N72=\"\",\"\",'Tornado Chart'!N72)","v":""},{"$f":"IF('Tornado Chart'!O72=\"\",\"\",'Tornado Chart'!O72)","v":""},{"$f":"IF('Tornado Chart'!P72=\"\",\"\",'Tornado Chart'!P72)","v":""},{"$f":"IF('Tornado Chart'!Q72=\"\",\"\",'Tornado Chart'!Q72)","v":""},"","",{"$f":"IF($A72=\"\",\"\",RANK($F72,$F$2:$F$100,1)+COUNTIF(F$2:F72,F72)-1)","v":""},null,null,null,{"$f":"IFERROR(INDEX(A:A,MATCH(ROWS($1:71),$G:$G,0)),IF(ROW()=2,\"None\",\"\"))","v":""},{"$f":"IFERROR(INDEX(B:B,MATCH(ROWS($1:71),$G:$G,0)),IF(ROW()=2,0,\"\"))","v":""},{"$f":"IFERROR(INDEX(D:D,MATCH(ROWS($1:71),$G:$G,0)),IF(ROW()=2,0,\"\"))","v":""}]
[{"$f":"IF('Tornado Chart'!N73=\"\",\"\",'Tornado Chart'!N73)","v":""},{"$f":"IF('Tornado Chart'!O73=\"\",\"\",'Tornado Chart'!O73)","v":""},{"$f":"IF('Tornado Chart'!P73=\"\",\"\",'Tornado Chart'!P73)","v":""},{"$f":"IF('Tornado Chart'!Q73=\"\",\"\",'Tornado Chart'!Q73)","v":""},"","",{"$f":"IF($A73=\"\",\"\",RANK($F73,$F$2:$F$100,1)+COUNTIF(F$2:F73,F73)-1)","v":""},null,null,null,{"$f":"IFERROR(INDEX(A:A,MATCH(ROWS($1:72),$G:$G,0)),IF(ROW()=2,\"None\",\"\"))","v":""},{"$f":"IFERROR(INDEX(B:B,MATCH(ROWS($1:72),$G:$G,0)),IF(ROW()=2,0,\"\"))","v":""},{"$f":"IFERROR(INDEX(D:D,MATCH(ROWS($1:72),$G:$G,0)),IF(ROW()=2,0,\"\"))","v":""}]
[{"$f":"IF('Tornado Chart'!N74=\"\",\"\",'Tornado Chart'!N74)","v":""},{"$f":"IF('Tornado Chart'!O74=\"\",\"\",'Tornado Chart'!O74)","v":""},{"$f":"IF('Tornado Chart'!P74=\"\",\"\",'Tornado Chart'!P74)","v":""},{"$f":"IF('Tornado Chart'!Q74=\"\",\"\",'Tornado Chart'!Q74)","v":""},"","",{"$f":"IF($A74=\"\",\"\",RANK($F74,$F$2:$F$100,1)+COUNTIF(F$2:F74,F74)-1)","v":""},null,null,null,{"$f":"IFERROR(INDEX(A:A,MATCH(ROWS($1:73),$G:$G,0)),IF(ROW()=2,\"None\",\"\"))","v":""},{"$f":"IFERROR(INDEX(B:B,MATCH(ROWS($1:73),$G:$G,0)),IF(ROW()=2,0,\"\"))","v":""},{"$f":"IFERROR(INDEX(D:D,MATCH(ROWS($1:73),$G:$G,0)),IF(ROW()=2,0,\"\"))","v":""}]
[{"$f":"IF('Tornado Chart'!N75=\"\",\"\",'Tornado Chart'!N75)","v":""},{"$f":"IF('Tornado Chart'!O75=\"\",\"\",'Tornado Chart'!O75)","v":""},{"$f":"IF('Tornado Chart'!P75=\"\",\"\",'Tornado Chart'!P75)","v":""},{"$f":"IF('Tornado Chart'!Q75=\"\",\"\",'Tornado Chart'!Q75)","v":""},"","",{"$f":"IF($A75=\"\",\"\",RANK($F75,$F$2:$F$100,1)+COUNTIF(F$2:F75,F75)-1)","v":""},null,null,null,{"$f":"IFERROR(INDEX(A:A,MATCH(ROWS($1:74),$G:$G,0)),IF(ROW()=2,\"None\",\"\"))","v":""},{"$f":"IFERROR(INDEX(B:B,MATCH(ROWS($1:74),$G:$G,0)),IF(ROW()=2,0,\"\"))","v":""},{"$f":"IFERROR(INDEX(D:D,MATCH(ROWS($1:74),$G:$G,0)),IF(ROW()=2,0,\"\"))","v":""}]
[{"$f":"IF('Tornado Chart'!N76=\"\",\"\",'Tornado Chart'!N76)","v":""},{"$f":"IF('Tornado Chart'!O76=\"\",\"\",'Tornado Chart'!O76)","v":""},{"$f":"IF('Tornado Chart'!P76=\"\",\"\",'Tornado Chart'!P76)","v":""},{"$f":"IF('Tornado Chart'!Q76=\"\",\"\",'Tornado Chart'!Q76)","v":""},"","",{"$f":"IF($A76=\"\",\"\",RANK($F76,$F$2:$F$100,1)+COUNTIF(F$2:F76,F76)-1)","v":""},null,null,null,{"$f":"IFERROR(INDEX(A:A,MATCH(ROWS($1:75),$G:$G,0)),IF(ROW()=2,\"None\",\"\"))","v":""},{"$f":"IFERROR(INDEX(B:B,MATCH(ROWS($1:75),$G:$G,0)),IF(ROW()=2,0,\"\"))","v":""},{"$f":"IFERROR(INDEX(D:D,MATCH(ROWS($1:75),$G:$G,0)),IF(ROW()=2,0,\"\"))","v":""}]
[{"$f":"IF('Tornado Chart'!N77=\"\",\"\",'Tornado Chart'!N77)","v":""},{"$f":"IF('Tornado Chart'!O77=\"\",\"\",'Tornado Chart'!O77)","v":""},{"$f":"IF('Tornado Chart'!P77=\"\",\"\",'Tornado Chart'!P77)","v":""},{"$f":"IF('Tornado Chart'!Q77=\"\",\"\",'Tornado Chart'!Q77)","v":""},"","",{"$f":"IF($A77=\"\",\"\",RANK($F77,$F$2:$F$100,1)+COUNTIF(F$2:F77,F77)-1)","v":""},null,null,null,{"$f":"IFERROR(INDEX(A:A,MATCH(ROWS($1:76),$G:$G,0)),IF(ROW()=2,\"None\",\"\"))","v":""},{"$f":"IFERROR(INDEX(B:B,MATCH(ROWS($1:76),$G:$G,0)),IF(ROW()=2,0,\"\"))","v":""},{"$f":"IFERROR(INDEX(D:D,MATCH(ROWS($1:76),$G:$G,0)),IF(ROW()=2,0,\"\"))","v":""}]
[{"$f":"IF('Tornado Chart'!N78=\"\",\"\",'Tornado Chart'!N78)","v":""},{"$f":"IF('Tornado Chart'!O78=\"\",\"\",'Tornado Chart'!O78)","v":""},{"$f":"IF('Tornado Chart'!P78=\"\",\"\",'Tornado Chart'!P78)","v":""},{"$f":"IF('Tornado Chart'!Q78=\"\",\"\",'Tornado Chart'!Q78)","v":""},"","",{"$f":"IF($A78=\"\",\"\",RANK($F78,$F$2:$F$100,1)+COUNTIF(F$2:F78,F78)-1)","v":""},null,null,null,{"$f":"IFERROR(INDEX(A:A,MATCH(ROWS($1:77),$G:$G,0)),IF(ROW()=2,\"None\",\"\"))","v":""},{"$f":"IFERROR(INDEX(B:B,MATCH(ROWS($1:77),$G:$G,0)),IF(ROW()=2,0,\"\"))","v":""},{"$f":"IFERROR(INDEX(D:D,MATCH(ROWS($1:77),$G:$G,0)),IF(ROW()=2,0,\"\"))","v":""}]
[{"$f":"IF('Tornado Chart'!N79=\"\",\"\",'Tornado Chart'!N79)","v":""},{"$f":"IF('Tornado Chart'!O79=\"\",\"\",'Tornado Chart'!O79)","v":""},{"$f":"IF('Tornado Chart'!P79=\"\",\"\",'Tornado Chart'!P79)","v":""},{"$f":"IF('Tornado Chart'!Q79=\"\",\"\",'Tornado Chart'!Q79)","v":""},"","",{"$f":"IF($A79=\"\",\"\",RANK($F79,$F$2:$F$100,1)+COUNTIF(F$2:F79,F79)-1)","v":""},null,null,null,{"$f":"IFERROR(INDEX(A:A,MATCH(ROWS($1:78),$G:$G,0)),IF(ROW()=2,\"None\",\"\"))","v":""},{"$f":"IFERROR(INDEX(B:B,MATCH(ROWS($1:78),$G:$G,0)),IF(ROW()=2,0,\"\"))","v":""},{"$f":"IFERROR(INDEX(D:D,MATCH(ROWS($1:78),$G:$G,0)),IF(ROW()=2,0,\"\"))","v":""}]
[{"$f":"IF('Tornado Chart'!N80=\"\",\"\",'Tornado Chart'!N80)","v":""},{"$f":"IF('Tornado Chart'!O80=\"\",\"\",'Tornado Chart'!O80)","v":""},{"$f":"IF('Tornado Chart'!P80=\"\",\"\",'Tornado Chart'!P80)","v":""},{"$f":"IF('Tornado Chart'!Q80=\"\",\"\",'Tornado Chart'!Q80)","v":""},"","",{"$f":"IF($A80=\"\",\"\",RANK($F80,$F$2:$F$100,1)+COUNTIF(F$2:F80,F80)-1)","v":""},null,null,null,{"$f":"IFERROR(INDEX(A:A,MATCH(ROWS($1:79),$G:$G,0)),IF(ROW()=2,\"None\",\"\"))","v":""},{"$f":"IFERROR(INDEX(B:B,MATCH(ROWS($1:79),$G:$G,0)),IF(ROW()=2,0,\"\"))","v":""},{"$f":"IFERROR(INDEX(D:D,MATCH(ROWS($1:79),$G:$G,0)),IF(ROW()=2,0,\"\"))","v":""}]
[{"$f":"IF('Tornado Chart'!N81=\"\",\"\",'Tornado Chart'!N81)","v":""},{"$f":"IF('Tornado Chart'!O81=\"\",\"\",'Tornado Chart'!O81)","v":""},{"$f":"IF('Tornado Chart'!P81=\"\",\"\",'Tornado Chart'!P81)","v":""},{"$f":"IF('Tornado Chart'!Q81=\"\",\"\",'Tornado Chart'!Q81)","v":""},"","",{"$f":"IF($A81=\"\",\"\",RANK($F81,$F$2:$F$100,1)+COUNTIF(F$2:F81,F81)-1)","v":""},null,null,null,{"$f":"IFERROR(INDEX(A:A,MATCH(ROWS($1:80),$G:$G,0)),IF(ROW()=2,\"None\",\"\"))","v":""},{"$f":"IFERROR(INDEX(B:B,MATCH(ROWS($1:80),$G:$G,0)),IF(ROW()=2,0,\"\"))","v":""},{"$f":"IFERROR(INDEX(D:D,MATCH(ROWS($1:80),$G:$G,0)),IF(ROW()=2,0,\"\"))","v":""}]
[{"$f":"IF('Tornado Chart'!N82=\"\",\"\",'Tornado Chart'!N82)","v":""},{"$f":"IF('Tornado Chart'!O82=\"\",\"\",'Tornado Chart'!O82)","v":""},{"$f":"IF('Tornado Chart'!P82=\"\",\"\",'Tornado Chart'!P82)","v":""},{"$f":"IF('Tornado Chart'!Q82=\"\",\"\",'Tornado Chart'!Q82)","v":""},"","",{"$f":"IF($A82=\"\",\"\",RANK($F82,$F$2:$F$100,1)+COUNTIF(F$2:F82,F82)-1)","v":""},null,null,null,{"$f":"IFERROR(INDEX(A:A,MATCH(ROWS($1:81),$G:$G,0)),IF(ROW()=2,\"None\",\"\"))","v":""},{"$f":"IFERROR(INDEX(B:B,MATCH(ROWS($1:81),$G:$G,0)),IF(ROW()=2,0,\"\"))","v":""},{"$f":"IFERROR(INDEX(D:D,MATCH(ROWS($1:81),$G:$G,0)),IF(ROW()=2,0,\"\"))","v":""}]
[{"$f":"IF('Tornado Chart'!N83=\"\",\"\",'Tornado Chart'!N83)","v":""},{"$f":"IF('Tornado Chart'!O83=\"\",\"\",'Tornado Chart'!O83)","v":""},{"$f":"IF('Tornado Chart'!P83=\"\",\"\",'Tornado Chart'!P83)","v":""},{"$f":"IF('Tornado Chart'!Q83=\"\",\"\",'Tornado Chart'!Q83)","v":""},"","",{"$f":"IF($A83=\"\",\"\",RANK($F83,$F$2:$F$100,1)+COUNTIF(F$2:F83,F83)-1)","v":""},null,null,null,{"$f":"IFERROR(INDEX(A:A,MATCH(ROWS($1:82),$G:$G,0)),IF(ROW()=2,\"None\",\"\"))","v":""},{"$f":"IFERROR(INDEX(B:B,MATCH(ROWS($1:82),$G:$G,0)),IF(ROW()=2,0,\"\"))","v":""},{"$f":"IFERROR(INDEX(D:D,MATCH(ROWS($1:82),$G:$G,0)),IF(ROW()=2,0,\"\"))","v":""}]
[{"$f":"IF('Tornado Chart'!N84=\"\",\"\",'Tornado Chart'!N84)","v":""},{"$f":"IF('Tornado Chart'!O84=\"\",\"\",'Tornado Chart'!O84)","v":""},{"$f":"IF('Tornado Chart'!P84=\"\",\"\",'Tornado Chart'!P84)","v":""},{"$f":"IF('Tornado Chart'!Q84=\"\",\"\",'Tornado Chart'!Q84)","v":""},"","",{"$f":"IF($A84=\"\",\"\",RANK($F84,$F$2:$F$100,1)+COUNTIF(F$2:F84,F84)-1)","v":""},null,null,null,{"$f":"IFERROR(INDEX(A:A,MATCH(ROWS($1:83),$G:$G,0)),IF(ROW()=2,\"None\",\"\"))","v":""},{"$f":"IFERROR(INDEX(B:B,MATCH(ROWS($1:83),$G:$G,0)),IF(ROW()=2,0,\"\"))","v":""},{"$f":"IFERROR(INDEX(D:D,MATCH(ROWS($1:83),$G:$G,0)),IF(ROW()=2,0,\"\"))","v":""}]
[{"$f":"IF('Tornado Chart'!N85=\"\",\"\",'Tornado Chart'!N85)","v":""},{"$f":"IF('Tornado Chart'!O85=\"\",\"\",'Tornado Chart'!O85)","v":""},{"$f":"IF('Tornado Chart'!P85=\"\",\"\",'Tornado Chart'!P85)","v":""},{"$f":"IF('Tornado Chart'!Q85=\"\",\"\",'Tornado Chart'!Q85)","v":""},"","",{"$f":"IF($A85=\"\",\"\",RANK($F85,$F$2:$F$100,1)+COUNTIF(F$2:F85,F85)-1)","v":""},null,null,null,{"$f":"IFERROR(INDEX(A:A,MATCH(ROWS($1:84),$G:$G,0)),IF(ROW()=2,\"None\",\"\"))","v":""},{"$f":"IFERROR(INDEX(B:B,MATCH(ROWS($1:84),$G:$G,0)),IF(ROW()=2,0,\"\"))","v":""},{"$f":"IFERROR(INDEX(D:D,MATCH(ROWS($1:84),$G:$G,0)),IF(ROW()=2,0,\"\"))","v":""}]
[{"$f":"IF('Tornado Chart'!N86=\"\",\"\",'Tornado Chart'!N86)","v":""},{"$f":"IF('Tornado Chart'!O86=\"\",\"\",'Tornado Chart'!O86)","v":""},{"$f":"IF('Tornado Chart'!P86=\"\",\"\",'Tornado Chart'!P86)","v":""},{"$f":"IF('Tornado Chart'!Q86=\"\",\"\",'Tornado Chart'!Q86)","v":""},"","",{"$f":"IF($A86=\"\",\"\",RANK($F86,$F$2:$F$100,1)+COUNTIF(F$2:F86,F86)-1)","v":""},null,null,null,{"$f":"IFERROR(INDEX(A:A,MATCH(ROWS($1:85),$G:$G,0)),IF(ROW()=2,\"None\",\"\"))","v":""},{"$f":"IFERROR(INDEX(B:B,MATCH(ROWS($1:85),$G:$G,0)),IF(ROW()=2,0,\"\"))","v":""},{"$f":"IFERROR(INDEX(D:D,MATCH(ROWS($1:85),$G:$G,0)),IF(ROW()=2,0,\"\"))","v":""}]
[{"$f":"IF('Tornado Chart'!N87=\"\",\"\",'Tornado Chart'!N87)","v":""},{"$f":"IF('Tornado Chart'!O87=\"\",\"\",'Tornado Chart'!O87)","v":""},{"$f":"IF('Tornado Chart'!P87=\"\",\"\",'Tornado Chart'!P87)","v":""},{"$f":"IF('Tornado Chart'!Q87=\"\",\"\",'Tornado Chart'!Q87)","v":""},"","",{"$f":"IF($A87=\"\",\"\",RANK($F87,$F$2:$F$100,1)+COUNTIF(F$2:F87,F87)-1)","v":""},null,null,null,{"$f":"IFERROR(INDEX(A:A,MATCH(ROWS($1:86),$G:$G,0)),IF(ROW()=2,\"None\",\"\"))","v":""},{"$f":"IFERROR(INDEX(B:B,MATCH(ROWS($1:86),$G:$G,0)),IF(ROW()=2,0,\"\"))","v":""},{"$f":"IFERROR(INDEX(D:D,MATCH(ROWS($1:86),$G:$G,0)),IF(ROW()=2,0,\"\"))","v":""}]
[{"$f":"IF('Tornado Chart'!N88=\"\",\"\",'Tornado Chart'!N88)","v":""},{"$f":"IF('Tornado Chart'!O88=\"\",\"\",'Tornado Chart'!O88)","v":""},{"$f":"IF('Tornado Chart'!P88=\"\",\"\",'Tornado Chart'!P88)","v":""},{"$f":"IF('Tornado Chart'!Q88=\"\",\"\",'Tornado Chart'!Q88)","v":""},"","",{"$f":"IF($A88=\"\",\"\",RANK($F88,$F$2:$F$100,1)+COUNTIF(F$2:F88,F88)-1)","v":""},null,null,null,{"$f":"IFERROR(INDEX(A:A,MATCH(ROWS($1:87),$G:$G,0)),IF(ROW()=2,\"None\",\"\"))","v":""},{"$f":"IFERROR(INDEX(B:B,MATCH(ROWS($1:87),$G:$G,0)),IF(ROW()=2,0,\"\"))","v":""},{"$f":"IFERROR(INDEX(D:D,MATCH(ROWS($1:87),$G:$G,0)),IF(ROW()=2,0,\"\"))","v":""}]
[{"$f":"IF('Tornado Chart'!N89=\"\",\"\",'Tornado Chart'!N89)","v":""},{"$f":"IF('Tornado Chart'!O89=\"\",\"\",'Tornado Chart'!O89)","v":""},{"$f":"IF('Tornado Chart'!P89=\"\",\"\",'Tornado Chart'!P89)","v":""},{"$f":"IF('Tornado Chart'!Q89=\"\",\"\",'Tornado Chart'!Q89)","v":""},"","",{"$f":"IF($A89=\"\",\"\",RANK($F89,$F$2:$F$100,1)+COUNTIF(F$2:F89,F89)-1)","v":""},null,null,null,{"$f":"IFERROR(INDEX(A:A,MATCH(ROWS($1:88),$G:$G,0)),IF(ROW()=2,\"None\",\"\"))","v":""},{"$f":"IFERROR(INDEX(B:B,MATCH(ROWS($1:88),$G:$G,0)),IF(ROW()=2,0,\"\"))","v":""},{"$f":"IFERROR(INDEX(D:D,MATCH(ROWS($1:88),$G:$G,0)),IF(ROW()=2,0,\"\"))","v":""}]
[{"$f":"IF('Tornado Chart'!N90=\"\",\"\",'Tornado Chart'!N90)","v":""},{"$f":"IF('Tornado Chart'!O90=\"\",\"\",'Tornado Chart'!O90)","v":""},{"$f":"IF('Tornado Chart'!P90=\"\",\"\",'Tornado Chart'!P90)","v":""},{"$f":"IF('Tornado Chart'!Q90=\"\",\"\",'Tornado Chart'!Q90)","v":""},"","",{"$f":"IF($A90=\"\",\"\",RANK($F90,$F$2:$F$100,1)+COUNTIF(F$2:F90,F90)-1)","v":""},null,null,null,{"$f":"IFERROR(INDEX(A:A,MATCH(ROWS($1:89),$G:$G,0)),IF(ROW()=2,\"None\",\"\"))","v":""},{"$f":"IFERROR(INDEX(B:B,MATCH(ROWS($1:89),$G:$G,0)),IF(ROW()=2,0,\"\"))","v":""},{"$f":"IFERROR(INDEX(D:D,MATCH(ROWS($1:89),$G:$G,0)),IF(ROW()=2,0,\"\"))","v":""}]
[{"$f":"IF('Tornado Chart'!N91=\"\",\"\",'Tornado Chart'!N91)","v":""},{"$f":"IF('Tornado Chart'!O91=\"\",\"\",'Tornado Chart'!O91)","v":""},{"$f":"IF('Tornado Chart'!P91=\"\",\"\",'Tornado Chart'!P91)","v":""},{"$f":"IF('Tornado Chart'!Q91=\"\",\"\",'Tornado Chart'!Q91)","v":""},"","",{"$f":"IF($A91=\"\",\"\",RANK($F91,$F$2:$F$100,1)+COUNTIF(F$2:F91,F91)-1)","v":""},null,null,null,{"$f":"IFERROR(INDEX(A:A,MATCH(ROWS($1:90),$G:$G,0)),IF(ROW()=2,\"None\",\"\"))","v":""},{"$f":"IFERROR(INDEX(B:B,MATCH(ROWS($1:90),$G:$G,0)),IF(ROW()=2,0,\"\"))","v":""},{"$f":"IFERROR(INDEX(D:D,MATCH(ROWS($1:90),$G:$G,0)),IF(ROW()=2,0,\"\"))","v":""}]
[{"$f":"IF('Tornado Chart'!N92=\"\",\"\",'Tornado Chart'!N92)","v":""},{"$f":"IF('Tornado Chart'!O92=\"\",\"\",'Tornado Chart'!O92)","v":""},{"$f":"IF('Tornado Chart'!P92=\"\",\"\",'Tornado Chart'!P92)","v":""},{"$f":"IF('Tornado Chart'!Q92=\"\",\"\",'Tornado Chart'!Q92)","v":""},"","",{"$f":"IF($A92=\"\",\"\",RANK($F92,$F$2:$F$100,1)+COUNTIF(F$2:F92,F92)-1)","v":""},null,null,null,{"$f":"IFERROR(INDEX(A:A,MATCH(ROWS($1:91),$G:$G,0)),IF(ROW()=2,\"None\",\"\"))","v":""},{"$f":"IFERROR(INDEX(B:B,MATCH(ROWS($1:91),$G:$G,0)),IF(ROW()=2,0,\"\"))","v":""},{"$f":"IFERROR(INDEX(D:D,MATCH(ROWS($1:91),$G:$G,0)),IF(ROW()=2,0,\"\"))","v":""}]
[{"$f":"IF('Tornado Chart'!N93=\"\",\"\",'Tornado Chart'!N93)","v":""},{"$f":"IF('Tornado Chart'!O93=\"\",\"\",'Tornado Chart'!O93)","v":""},{"$f":"IF('Tornado Chart'!P93=\"\",\"\",'Tornado Chart'!P93)","v":""},{"$f":"IF('Tornado Chart'!Q93=\"\",\"\",'Tornado Chart'!Q93)","v":""},"","",{"$f":"IF($A93=\"\",\"\",RANK($F93,$F$2:$F$100,1)+COUNTIF(F$2:F93,F93)-1)","v":""},null,null,null,{"$f":"IFERROR(INDEX(A:A,MATCH(ROWS($1:92),$G:$G,0)),IF(ROW()=2,\"None\",\"\"))","v":""},{"$f":"IFERROR(INDEX(B:B,MATCH(ROWS($1:92),$G:$G,0)),IF(ROW()=2,0,\"\"))","v":""},{"$f":"IFERROR(INDEX(D:D,MATCH(ROWS($1:92),$G:$G,0)),IF(ROW()=2,0,\"\"))","v":""}]
[{"$f":"IF('Tornado Chart'!N94=\"\",\"\",'Tornado Chart'!N94)","v":""},{"$f":"IF('Tornado Chart'!O94=\"\",\"\",'Tornado Chart'!O94)","v":""},{"$f":"IF('Tornado Chart'!P94=\"\",\"\",'Tornado Chart'!P94)","v":""},{"$f":"IF('Tornado Chart'!Q94=\"\",\"\",'Tornado Chart'!Q94)","v":""},"","",{"$f":"IF($A94=\"\",\"\",RANK($F94,$F$2:$F$100,1)+COUNTIF(F$2:F94,F94)-1)","v":""},null,null,null,{"$f":"IFERROR(INDEX(A:A,MATCH(ROWS($1:93),$G:$G,0)),IF(ROW()=2,\"None\",\"\"))","v":""},{"$f":"IFERROR(INDEX(B:B,MATCH(ROWS($1:93),$G:$G,0)),IF(ROW()=2,0,\"\"))","v":""},{"$f":"IFERROR(INDEX(D:D,MATCH(ROWS($1:93),$G:$G,0)),IF(ROW()=2,0,\"\"))","v":""}]
[{"$f":"IF('Tornado Chart'!N95=\"\",\"\",'Tornado Chart'!N95)","v":""},{"$f":"IF('Tornado Chart'!O95=\"\",\"\",'Tornado Chart'!O95)","v":""},{"$f":"IF('Tornado Chart'!P95=\"\",\"\",'Tornado Chart'!P95)","v":""},{"$f":"IF('Tornado Chart'!Q95=\"\",\"\",'Tornado Chart'!Q95)","v":""},"","",{"$f":"IF($A95=\"\",\"\",RANK($F95,$F$2:$F$100,1)+COUNTIF(F$2:F95,F95)-1)","v":""},null,null,null,{"$f":"IFERROR(INDEX(A:A,MATCH(ROWS($1:94),$G:$G,0)),IF(ROW()=2,\"None\",\"\"))","v":""},{"$f":"IFERROR(INDEX(B:B,MATCH(ROWS($1:94),$G:$G,0)),IF(ROW()=2,0,\"\"))","v":""},{"$f":"IFERROR(INDEX(D:D,MATCH(ROWS($1:94),$G:$G,0)),IF(ROW()=2,0,\"\"))","v":""}]
[{"$f":"IF('Tornado Chart'!N96=\"\",\"\",'Tornado Chart'!N96)","v":""},{"$f":"IF('Tornado Chart'!O96=\"\",\"\",'Tornado Chart'!O96)","v":""},{"$f":"IF('Tornado Chart'!P96=\"\",\"\",'Tornado Chart'!P96)","v":""},{"$f":"IF('Tornado Chart'!Q96=\"\",\"\",'Tornado Chart'!Q96)","v":""},"","",{"$f":"IF($A96=\"\",\"\",RANK($F96,$F$2:$F$100,1)+COUNTIF(F$2:F96,F96)-1)","v":""},null,null,null,{"$f":"IFERROR(INDEX(A:A,MATCH(ROWS($1:95),$G:$G,0)),IF(ROW()=2,\"None\",\"\"))","v":""},{"$f":"IFERROR(INDEX(B:B,MATCH(ROWS($1:95),$G:$G,0)),IF(ROW()=2,0,\"\"))","v":""},{"$f":"IFERROR(INDEX(D:D,MATCH(ROWS($1:95),$G:$G,0)),IF(ROW()=2,0,\"\"))","v":""}]
[{"$f":"IF('Tornado Chart'!N97=\"\",\"\",'Tornado Chart'!N97)","v":""},{"$f":"IF('Tornado Chart'!O97=\"\",\"\",'Tornado Chart'!O97)","v":""},{"$f":"IF('Tornado Chart'!P97=\"\",\"\",'Tornado Chart'!P97)","v":""},{"$f":"IF('Tornado Chart'!Q97=\"\",\"\",'Tornado Chart'!Q97)","v":""},"","",{"$f":"IF($A97=\"\",\"\",RANK($F97,$F$2:$F$100,1)+COUNTIF(F$2:F97,F97)-1)","v":""},null,null,null,{"$f":"IFERROR(INDEX(A:A,MATCH(ROWS($1:96),$G:$G,0)),IF(ROW()=2,\"None\",\"\"))","v":""},{"$f":"IFERROR(INDEX(B:B,MATCH(ROWS($1:96),$G:$G,0)),IF(ROW()=2,0,\"\"))","v":""},{"$f":"IFERROR(INDEX(D:D,MATCH(ROWS($1:96),$G:$G,0)),IF(ROW()=2,0,\"\"))","v":""}]
[{"$f":"IF('Tornado Chart'!N98=\"\",\"\",'Tornado Chart'!N98)","v":""},{"$f":"IF('Tornado Chart'!O98=\"\",\"\",'Tornado Chart'!O98)","v":""},{"$f":"IF('Tornado Chart'!P98=\"\",\"\",'Tornado Chart'!P98)","v":""},{"$f":"IF('Tornado Chart'!Q98=\"\",\"\",'Tornado Chart'!Q98)","v":""},"","",{"$f":"IF($A98=\"\",\"\",RANK($F98,$F$2:$F$100,1)+COUNTIF(F$2:F98,F98)-1)","v":""},null,null,null,{"$f":"IFERROR(INDEX(A:A,MATCH(ROWS($1:97),$G:$G,0)),IF(ROW()=2,\"None\",\"\"))","v":""},{"$f":"IFERROR(INDEX(B:B,MATCH(ROWS($1:97),$G:$G,0)),IF(ROW()=2,0,\"\"))","v":""},{"$f":"IFERROR(INDEX(D:D,MATCH(ROWS($1:97),$G:$G,0)),IF(ROW()=2,0,\"\"))","v":""}]
[{"$f":"IF('Tornado Chart'!N99=\"\",\"\",'Tornado Chart'!N99)","v":""},{"$f":"IF('Tornado Chart'!O99=\"\",\"\",'Tornado Chart'!O99)","v":""},{"$f":"IF('Tornado Chart'!P99=\"\",\"\",'Tornado Chart'!P99)","v":""},{"$f":"IF('Tornado Chart'!Q99=\"\",\"\",'Tornado Chart'!Q99)","v":""},"","",{"$f":"IF($A99=\"\",\"\",RANK($F99,$F$2:$F$100,1)+COUNTIF(F$2:F99,F99)-1)","v":""},null,null,null,{"$f":"IFERROR(INDEX(A:A,MATCH(ROWS($1:98),$G:$G,0)),IF(ROW()=2,\"None\",\"\"))","v":""},{"$f":"IFERROR(INDEX(B:B,MATCH(ROWS($1:98),$G:$G,0)),IF(ROW()=2,0,\"\"))","v":""},{"$f":"IFERROR(INDEX(D:D,MATCH(ROWS($1:98),$G:$G,0)),IF(ROW()=2,0,\"\"))","v":""}]
[{"$f":"IF('Tornado Chart'!N100=\"\",\"\",'Tornado Chart'!N100)","v":""},{"$f":"IF('Tornado Chart'!O100=\"\",\"\",'Tornado Chart'!O100)","v":""},{"$f":"IF('Tornado Chart'!P100=\"\",\"\",'Tornado Chart'!P100)","v":""},{"$f":"IF('Tornado Chart'!Q100=\"\",\"\",'Tornado Chart'!Q100)","v":""},"","",{"$f":"IF($A100=\"\",\"\",RANK($F100,$F$2:$F$100,1)+COUNTIF(F$2:F100,F100)-1)","v":""},null,null,null,{"$f":"IFERROR(INDEX(A:A,MATCH(ROWS($1:99),$G:$G,0)),IF(ROW()=2,\"None\",\"\"))","v":""},{"$f":"IFERROR(INDEX(B:B,MATCH(ROWS($1:99),$G:$G,0)),IF(ROW()=2,0,\"\"))","v":""},{"$f":"IFERROR(INDEX(D:D,MATCH(ROWS($1:99),$G:$G,0)),IF(ROW()=2,0,\"\"))","v":""}]
[{"$f":"IF('Tornado Chart'!N101=\"\",\"\",'Tornado Chart'!N101)","v":""},{"$f":"IF('Tornado Chart'!O101=\"\",\"\",'Tornado Chart'!O101)","v":""},{"$f":"IF('Tornado Chart'!P101=\"\",\"\",'Tornado Chart'!P101)","v":""},{"$f":"IF('Tornado Chart'!Q101=\"\",\"\",'Tornado Chart'!Q101)","v":""},"","",{"$f":"IF($A101=\"\",\"\",RANK($F101,$F$2:$F$100,1)+COUNTIF(F$2:F101,F101)-1)","v":""},null,null,null,{"$f":"IFERROR(INDEX(A:A,MATCH(ROWS($1:100),$G:$G,0)),IF(ROW()=2,\"None\",\"\"))","v":""},{"$f":"IFERROR(INDEX(B:B,MATCH(ROWS($1:100),$G:$G,0)),IF(ROW()=2,0,\"\"))","v":""},{"$f":"IFERROR(INDEX(D:D,MATCH(ROWS($1:100),$G:$G,0)),IF(ROW()=2,0,\"\"))","v":""}]