{"text_format":"1","workbook":"xlsx","n_sheets":3,"sheets":["Burnup Chart","Input","Final Data"],"not_rendered":{"charts":4,"images":1,"macros":1,"external_links":0,"defined_names":4,"comments":0,"pivot_tables":0},"unopened":[],"bounds":{"document_bytes":16777216,"sheet_cells":100000,"rows_first":2000,"rows_last":500,"rows_between":2000,"halvings":0,"cell_chars":16384,"cell_head_chars":4096},"cells_cut":0,"cells_raw":0,"read":"whole","date_system":"1900"}

{"sheet":"Burnup Chart","index":0,"n_rows":4,"n_cols":12,"rows_kept":4,"cut":false,"hidden":false,"merged":[[0,3,1,9]]}
[null,null,null,"Burnup Chart",null,null,null,null,null,null,null,"Customize the Legend"]
[null,null,null,null,null,null,null,null,null,null,null,"Scope Planned"]
[null,null,null,null,null,null,null,null,null,null,null,"Scope Completed"]
[null,null,null,null,null,null,null,null,null,null,null,"Ideal Burnup"]

{"sheet":"Input","index":1,"n_rows":18,"n_cols":3,"rows_kept":18,"cut":false,"hidden":false,"merged":[[0,2,0,12]]}
[null,null,"Enter points completed for a Date and Sprint."]
["Dates","Scope / Stories","Completed Scope"]
["2015-01-01",30,5]
[{"$f":"A3+1","v":"2015-01-02"},30,3]
[{"$f":"A4+1","v":"2015-01-03"},30,4]
["2015-01-04",30,6]
["2015-01-05",25,1]
["2015-01-06",25,5]
["2015-01-07",40,6]
["2015-01-08",40,7]
["2015-01-09",40,2]
["2015-01-10",40,2]
["2015-01-11",40,2]
["2015-01-12",40,2]
["2015-01-13",40,2]
["2015-01-14",40,2]
["2015-01-15",40,2]
["2015-01-16",40,2]

{"sheet":"Final Data","index":2,"n_rows":202,"n_cols":62,"rows_kept":202,"cut":false,"hidden":true,"merged":[]}
["Dates",{"$f":"IF('Burnup Chart'!$L$2=\"\",\"Scope Planned\",'Burnup Chart'!$L$2)","v":"Scope Planned"},{"$f":"IF('Burnup Chart'!$L$3=\"\",\"Scope Completed\",'Burnup Chart'!$L$3)","v":"Scope Completed"},{"$f":"IF('Burnup Chart'!$L$4=\"\",\"Ideal Burnup\",'Burnup Chart'!$L$4)","v":"Ideal Burnup"},null,null,null,null,null,null,null,null,null,{"$f":"IF(Input!N$2=\"\",\"\",Input!N$2)","v":""},{"$f":"IF(Input!O$2=\"\",\"\",Input!O$2)","v":""},{"$f":"IF(Input!P$2=\"\",\"\",Input!P$2)","v":""},{"$f":"IF(Input!Q$2=\"\",\"\",Input!Q$2)","v":""},{"$f":"IF(Input!R$2=\"\",\"\",Input!R$2)","v":""},{"$f":"IF(Input!S$2=\"\",\"\",Input!S$2)","v":""},{"$f":"IF(Input!T$2=\"\",\"\",Input!T$2)","v":""},{"$f":"IF(Input!U$2=\"\",\"\",Input!U$2)","v":""},{"$f":"IF(Input!V$2=\"\",\"\",Input!V$2)","v":""},{"$f":"IF(Input!W$2=\"\",\"\",Input!W$2)","v":""},{"$f":"IF(Input!X$2=\"\",\"\",Input!X$2)","v":""},{"$f":"IF(Input!Y$2=\"\",\"\",Input!Y$2)","v":""},{"$f":"IF(Input!Z$2=\"\",\"\",Input!Z$2)","v":""},{"$f":"IF(Input!AA$2=\"\",\"\",Input!AA$2)","v":""},{"$f":"IF(Input!AB$2=\"\",\"\",Input!AB$2)","v":""},{"$f":"IF(Input!AC$2=\"\",\"\",Input!AC$2)","v":""},{"$f":"IF(Input!AD$2=\"\",\"\",Input!AD$2)","v":""},{"$f":"IF(Input!AE$2=\"\",\"\",Input!AE$2)","v":""},{"$f":"IF(Input!AF$2=\"\",\"\",Input!AF$2)","v":""},{"$f":"IF(Input!AG$2=\"\",\"\",Input!AG$2)","v":""},{"$f":"IF(Input!AH$2=\"\",\"\",Input!AH$2)","v":""},{"$f":"IF(Input!AI$2=\"\",\"\",Input!AI$2)","v":""},{"$f":"IF(Input!AJ$2=\"\",\"\",Input!AJ$2)","v":""},{"$f":"IF(Input!AK$2=\"\",\"\",Input!AK$2)","v":""},{"$f":"IF(Input!AL$2=\"\",\"\",Input!AL$2)","v":""},{"$f":"IF(Input!AM$2=\"\",\"\",Input!AM$2)","v":""},{"$f":"IF(Input!AN$2=\"\",\"\",Input!AN$2)","v":""},{"$f":"IF(Input!AO$2=\"\",\"\",Input!AO$2)","v":""},{"$f":"IF(Input!AP$2=\"\",\"\",Input!AP$2)","v":""},{"$f":"IF(Input!AQ$2=\"\",\"\",Input!AQ$2)","v":""},{"$f":"IF(Input!AR$2=\"\",\"\",Input!AR$2)","v":""},{"$f":"IF(Input!AS$2=\"\",\"\",Input!AS$2)","v":""},{"$f":"IF(Input!AT$2=\"\",\"\",Input!AT$2)","v":""},{"$f":"IF(Input!AU$2=\"\",\"\",Input!AU$2)","v":""},{"$f":"IF(Input!AV$2=\"\",\"\",Input!AV$2)","v":""},{"$f":"IF(Input!AW$2=\"\",\"\",Input!AW$2)","v":""},{"$f":"IF(Input!AX$2=\"\",\"\",Input!AX$2)","v":""},{"$f":"IF(Input!AY$2=\"\",\"\",Input!AY$2)","v":""},{"$f":"IF(Input!AZ$2=\"\",\"\",Input!AZ$2)","v":""},{"$f":"IF(Input!BA$2=\"\",\"\",Input!BA$2)","v":""},{"$f":"IF(Input!BB$2=\"\",\"\",Input!BB$2)","v":""},{"$f":"IF(Input!BC$2=\"\",\"\",Input!BC$2)","v":""},{"$f":"IF(Input!BD$2=\"\",\"\",Input!BD$2)","v":""},{"$f":"IF(Input!BE$2=\"\",\"\",Input!BE$2)","v":""},{"$f":"IF(Input!BF$2=\"\",\"\",Input!BF$2)","v":""},{"$f":"IF(Input!BG$2=\"\",\"\",Input!BG$2)","v":""},{"$f":"IF(Input!BH$2=\"\",\"\",Input!BH$2)","v":""},{"$f":"IF(Input!BI$2=\"\",\"\",Input!BI$2)","v":""},{"$f":"IF(Input!BJ$2=\"\",\"\",Input!BJ$2)","v":""}]
["Day 0",{"$f":"IFERROR(LOOKUP(10^99,Input!$B$3:$B$202),0)","v":40},{"$f":"IF(Input!$C2=\"\",NA(),SUM(Input!$C$3:'Input'!$C2))","v":5},0,null,null,null,null,null,null,null,null,null,{"$f":"IF(N$1=\"\",\"\",M$2-$B$2/(SUMPRODUCT(--($C$1:$BJ$1<>\"\"))))","v":""},"","","","","","","","","","","","","","","","","","","","",{"$f":"IF(AI$1=\"\",\"\",AH$2-$B$2/(SUMPRODUCT(--($C$1:$BJ$1<>\"\"))))","v":""},"","","","","","","","","","","","","","","","","","","","","","","","","","",""]
[{"$f":"IF(Input!$A3=\"\",\"\",Input!$A3)","v":"2015-01-01"},{"$f":"IF(Input!$B3=\"\",\"\",Input!$B3)","v":30},{"$f":"IF(Input!$C3=\"\",NA(),SUM(Input!$C$3:'Input'!$C3))","v":5},{"$f":"IF($A3=\"\",\"\",$D2+$B$2/SUMPRODUCT(--($A$3:$A$202<>\"\")))","v":2.5},null,null,null,null,null,null,null,null,null,{"$f":"IF(N$1=\"\",\"\",SUM(Input!N$3:N$202))","v":""},{"$f":"IF(O$1=\"\",\"\",SUM(Input!O$3:O$202))","v":""},{"$f":"IF(P$1=\"\",\"\",SUM(Input!P$3:P$202))","v":""},{"$f":"IF(Q$1=\"\",\"\",SUM(Input!Q$3:Q$202))","v":""},{"$f":"IF(R$1=\"\",\"\",SUM(Input!R$3:R$202))","v":""},{"$f":"IF(S$1=\"\",\"\",SUM(Input!S$3:S$202))","v":""},{"$f":"IF(T$1=\"\",\"\",SUM(Input!T$3:T$202))","v":""},{"$f":"IF(U$1=\"\",\"\",SUM(Input!U$3:U$202))","v":""},{"$f":"IF(V$1=\"\",\"\",SUM(Input!V$3:V$202))","v":""},{"$f":"IF(W$1=\"\",\"\",SUM(Input!W$3:W$202))","v":""},{"$f":"IF(X$1=\"\",\"\",SUM(Input!X$3:X$202))","v":""},{"$f":"IF(Y$1=\"\",\"\",SUM(Input!Y$3:Y$202))","v":""},{"$f":"IF(Z$1=\"\",\"\",SUM(Input!Z$3:Z$202))","v":""},{"$f":"IF(AA$1=\"\",\"\",SUM(Input!AA$3:AA$202))","v":""},{"$f":"IF(AB$1=\"\",\"\",SUM(Input!AB$3:AB$202))","v":""},{"$f":"IF(AC$1=\"\",\"\",SUM(Input!AC$3:AC$202))","v":""},{"$f":"IF(AD$1=\"\",\"\",SUM(Input!AD$3:AD$202))","v":""},{"$f":"IF(AE$1=\"\",\"\",SUM(Input!AE$3:AE$202))","v":""},{"$f":"IF(AF$1=\"\",\"\",SUM(Input!AF$3:AF$202))","v":""},{"$f":"IF(AG$1=\"\",\"\",SUM(Input!AG$3:AG$202))","v":""},{"$f":"IF(AH$1=\"\",\"\",SUM(Input!AH$3:AH$202))","v":""},{"$f":"IF(AI$1=\"\",\"\",SUM(Input!AI$3:AI$202))","v":""},{"$f":"IF(AJ$1=\"\",\"\",SUM(Input!AJ$3:AJ$202))","v":""},{"$f":"IF(AK$1=\"\",\"\",SUM(Input!AK$3:AK$202))","v":""},{"$f":"IF(AL$1=\"\",\"\",SUM(Input!AL$3:AL$202))","v":""},{"$f":"IF(AM$1=\"\",\"\",SUM(Input!AM$3:AM$202))","v":""},{"$f":"IF(AN$1=\"\",\"\",SUM(Input!AN$3:AN$202))","v":""},{"$f":"IF(AO$1=\"\",\"\",SUM(Input!AO$3:AO$202))","v":""},{"$f":"IF(AP$1=\"\",\"\",SUM(Input!AP$3:AP$202))","v":""},{"$f":"IF(AQ$1=\"\",\"\",SUM(Input!AQ$3:AQ$202))","v":""},{"$f":"IF(AR$1=\"\",\"\",SUM(Input!AR$3:AR$202))","v":""},{"$f":"IF(AS$1=\"\",\"\",SUM(Input!AS$3:AS$202))","v":""},{"$f":"IF(AT$1=\"\",\"\",SUM(Input!AT$3:AT$202))","v":""},{"$f":"IF(AU$1=\"\",\"\",SUM(Input!AU$3:AU$202))","v":""},{"$f":"IF(AV$1=\"\",\"\",SUM(Input!AV$3:AV$202))","v":""},{"$f":"IF(AW$1=\"\",\"\",SUM(Input!AW$3:AW$202))","v":""},{"$f":"IF(AX$1=\"\",\"\",SUM(Input!AX$3:AX$202))","v":""},{"$f":"IF(AY$1=\"\",\"\",SUM(Input!AY$3:AY$202))","v":""},{"$f":"IF(AZ$1=\"\",\"\",SUM(Input!AZ$3:AZ$202))","v":""},{"$f":"IF(BA$1=\"\",\"\",SUM(Input!BA$3:BA$202))","v":""},{"$f":"IF(BB$1=\"\",\"\",SUM(Input!BB$3:BB$202))","v":""},{"$f":"IF(BC$1=\"\",\"\",SUM(Input!BC$3:BC$202))","v":""},{"$f":"IF(BD$1=\"\",\"\",SUM(Input!BD$3:BD$202))","v":""},{"$f":"IF(BE$1=\"\",\"\",SUM(Input!BE$3:BE$202))","v":""},{"$f":"IF(BF$1=\"\",\"\",SUM(Input!BF$3:BF$202))","v":""},{"$f":"IF(BG$1=\"\",\"\",SUM(Input!BG$3:BG$202))","v":""},{"$f":"IF(BH$1=\"\",\"\",SUM(Input!BH$3:BH$202))","v":""},{"$f":"IF(BI$1=\"\",\"\",SUM(Input!BI$3:BI$202))","v":""},{"$f":"IF(BJ$1=\"\",\"\",SUM(Input!BJ$3:BJ$202))","v":""}]
[{"$f":"IF(Input!$A4=\"\",\"\",Input!$A4)","v":"2015-01-02"},{"$f":"IF(Input!$B4=\"\",\"\",Input!$B4)","v":30},{"$f":"IF(Input!$C4=\"\",NA(),SUM(Input!$C$3:'Input'!$C4))","v":8},{"$f":"IF($A4=\"\",\"\",$D3+$B$2/SUMPRODUCT(--($A$3:$A$202<>\"\")))","v":5},null,null,null,null,null,null,null,null,null,{"$f":"IF(N$1=\"\",\"\",CountCTs(Input!N$3:N$202))","v":""},{"$f":"IF(O$1=\"\",\"\",CountCTs(Input!O$3:O$202))","v":""},{"$f":"IF(P$1=\"\",\"\",CountCTs(Input!P$3:P$202))","v":""},{"$f":"IF(Q$1=\"\",\"\",CountCTs(Input!Q$3:Q$202))","v":""},{"$f":"IF(R$1=\"\",\"\",CountCTs(Input!R$3:R$202))","v":""},{"$f":"IF(S$1=\"\",\"\",CountCTs(Input!S$3:S$202))","v":""},{"$f":"IF(T$1=\"\",\"\",CountCTs(Input!T$3:T$202))","v":""},{"$f":"IF(U$1=\"\",\"\",CountCTs(Input!U$3:U$202))","v":""},{"$f":"IF(V$1=\"\",\"\",CountCTs(Input!V$3:V$202))","v":""},{"$f":"IF(W$1=\"\",\"\",CountCTs(Input!W$3:W$202))","v":""},{"$f":"IF(X$1=\"\",\"\",CountCTs(Input!X$3:X$202))","v":""},{"$f":"IF(Y$1=\"\",\"\",CountCTs(Input!Y$3:Y$202))","v":""},{"$f":"IF(Z$1=\"\",\"\",CountCTs(Input!Z$3:Z$202))","v":""},{"$f":"IF(AA$1=\"\",\"\",CountCTs(Input!AA$3:AA$202))","v":""},{"$f":"IF(AB$1=\"\",\"\",CountCTs(Input!AB$3:AB$202))","v":""},{"$f":"IF(AC$1=\"\",\"\",CountCTs(Input!AC$3:AC$202))","v":""},{"$f":"IF(AD$1=\"\",\"\",CountCTs(Input!AD$3:AD$202))","v":""},{"$f":"IF(AE$1=\"\",\"\",CountCTs(Input!AE$3:AE$202))","v":""},{"$f":"IF(AF$1=\"\",\"\",CountCTs(Input!AF$3:AF$202))","v":""},{"$f":"IF(AG$1=\"\",\"\",CountCTs(Input!AG$3:AG$202))","v":""},{"$f":"IF(AH$1=\"\",\"\",CountCTs(Input!AH$3:AH$202))","v":""},{"$f":"IF(AI$1=\"\",\"\",CountCTs(Input!AI$3:AI$202))","v":""},{"$f":"IF(AJ$1=\"\",\"\",CountCTs(Input!AJ$3:AJ$202))","v":""},{"$f":"IF(AK$1=\"\",\"\",CountCTs(Input!AK$3:AK$202))","v":""},{"$f":"IF(AL$1=\"\",\"\",CountCTs(Input!AL$3:AL$202))","v":""},{"$f":"IF(AM$1=\"\",\"\",CountCTs(Input!AM$3:AM$202))","v":""},{"$f":"IF(AN$1=\"\",\"\",CountCTs(Input!AN$3:AN$202))","v":""},{"$f":"IF(AO$1=\"\",\"\",CountCTs(Input!AO$3:AO$202))","v":""},{"$f":"IF(AP$1=\"\",\"\",CountCTs(Input!AP$3:AP$202))","v":""},{"$f":"IF(AQ$1=\"\",\"\",CountCTs(Input!AQ$3:AQ$202))","v":""},{"$f":"IF(AR$1=\"\",\"\",CountCTs(Input!AR$3:AR$202))","v":""},{"$f":"IF(AS$1=\"\",\"\",CountCTs(Input!AS$3:AS$202))","v":""},{"$f":"IF(AT$1=\"\",\"\",CountCTs(Input!AT$3:AT$202))","v":""},{"$f":"IF(AU$1=\"\",\"\",CountCTs(Input!AU$3:AU$202))","v":""},{"$f":"IF(AV$1=\"\",\"\",CountCTs(Input!AV$3:AV$202))","v":""},{"$f":"IF(AW$1=\"\",\"\",CountCTs(Input!AW$3:AW$202))","v":""},{"$f":"IF(AX$1=\"\",\"\",CountCTs(Input!AX$3:AX$202))","v":""},{"$f":"IF(AY$1=\"\",\"\",CountCTs(Input!AY$3:AY$202))","v":""},{"$f":"IF(AZ$1=\"\",\"\",CountCTs(Input!AZ$3:AZ$202))","v":""},{"$f":"IF(BA$1=\"\",\"\",CountCTs(Input!BA$3:BA$202))","v":""},{"$f":"IF(BB$1=\"\",\"\",CountCTs(Input!BB$3:BB$202))","v":""},{"$f":"IF(BC$1=\"\",\"\",CountCTs(Input!BC$3:BC$202))","v":""},{"$f":"IF(BD$1=\"\",\"\",CountCTs(Input!BD$3:BD$202))","v":""},{"$f":"IF(BE$1=\"\",\"\",CountCTs(Input!BE$3:BE$202))","v":""},{"$f":"IF(BF$1=\"\",\"\",CountCTs(Input!BF$3:BF$202))","v":""},{"$f":"IF(BG$1=\"\",\"\",CountCTs(Input!BG$3:BG$202))","v":""},{"$f":"IF(BH$1=\"\",\"\",CountCTs(Input!BH$3:BH$202))","v":""},{"$f":"IF(BI$1=\"\",\"\",CountCTs(Input!BI$3:BI$202))","v":""},{"$f":"IF(BJ$1=\"\",\"\",CountCTs(Input!BJ$3:BJ$202))","v":""}]
[{"$f":"IF(Input!$A5=\"\",\"\",Input!$A5)","v":"2015-01-03"},{"$f":"IF(Input!$B5=\"\",\"\",Input!$B5)","v":30},{"$f":"IF(Input!$C5=\"\",NA(),SUM(Input!$C$3:'Input'!$C5))","v":12},7.5,null,null,null,null,null,null,null,null,null,{"$f":"IF(N$1=\"\",\"\",M$5-N4)","v":""},{"$f":"SUM(OFFSET('Final Data'!$A$1,1,2,SUMPRODUCT(--(NOT(ISNA('Final Data'!$C$2:$C$202))))))","v":526},"","","","","","","","","","","","","","","","","","","","","","","","","","","","","","","","","","","","","","","","","","","","","","",""]
[{"$f":"IF(Input!$A6=\"\",\"\",Input!$A6)","v":"2015-01-04"},{"$f":"IF(Input!$B6=\"\",\"\",Input!$B6)","v":30},{"$f":"IF(Input!$C6=\"\",NA(),SUM(Input!$C$3:'Input'!$C6))","v":18},10]
[{"$f":"IF(Input!$A7=\"\",\"\",Input!$A7)","v":"2015-01-05"},{"$f":"IF(Input!$B7=\"\",\"\",Input!$B7)","v":25},{"$f":"IF(Input!$C7=\"\",NA(),SUM(Input!$C$3:'Input'!$C7))","v":19},12.5]
[{"$f":"IF(Input!$A8=\"\",\"\",Input!$A8)","v":"2015-01-06"},{"$f":"IF(Input!$B8=\"\",\"\",Input!$B8)","v":25},{"$f":"IF(Input!$C8=\"\",NA(),SUM(Input!$C$3:'Input'!$C8))","v":24},15]
[{"$f":"IF(Input!$A9=\"\",\"\",Input!$A9)","v":"2015-01-07"},{"$f":"IF(Input!$B9=\"\",\"\",Input!$B9)","v":40},{"$f":"IF(Input!$C9=\"\",NA(),SUM(Input!$C$3:'Input'!$C9))","v":30},17.5]
[{"$f":"IF(Input!$A10=\"\",\"\",Input!$A10)","v":"2015-01-08"},{"$f":"IF(Input!$B10=\"\",\"\",Input!$B10)","v":40},{"$f":"IF(Input!$C10=\"\",NA(),SUM(Input!$C$3:'Input'!$C10))","v":37},20]
[{"$f":"IF(Input!$A11=\"\",\"\",Input!$A11)","v":"2015-01-09"},{"$f":"IF(Input!$B11=\"\",\"\",Input!$B11)","v":40},{"$f":"IF(Input!$C11=\"\",NA(),SUM(Input!$C$3:'Input'!$C11))","v":39},22.5]
[{"$f":"IF(Input!$A12=\"\",\"\",Input!$A12)","v":"2015-01-10"},{"$f":"IF(Input!$B12=\"\",\"\",Input!$B12)","v":40},{"$f":"IF(Input!$C12=\"\",NA(),SUM(Input!$C$3:'Input'!$C12))","v":41},25]
[{"$f":"IF(Input!$A13=\"\",\"\",Input!$A13)","v":"2015-01-11"},{"$f":"IF(Input!$B13=\"\",\"\",Input!$B13)","v":40},{"$f":"IF(Input!$C13=\"\",NA(),SUM(Input!$C$3:'Input'!$C13))","v":43},27.5]
[{"$f":"IF(Input!$A14=\"\",\"\",Input!$A14)","v":"2015-01-12"},{"$f":"IF(Input!$B14=\"\",\"\",Input!$B14)","v":40},{"$f":"IF(Input!$C14=\"\",NA(),SUM(Input!$C$3:'Input'!$C14))","v":45},30]
[{"$f":"IF(Input!$A15=\"\",\"\",Input!$A15)","v":"2015-01-13"},{"$f":"IF(Input!$B15=\"\",\"\",Input!$B15)","v":40},{"$f":"IF(Input!$C15=\"\",NA(),SUM(Input!$C$3:'Input'!$C15))","v":47},32.5]
[{"$f":"IF(Input!$A16=\"\",\"\",Input!$A16)","v":"2015-01-14"},{"$f":"IF(Input!$B16=\"\",\"\",Input!$B16)","v":40},{"$f":"IF(Input!$C16=\"\",NA(),SUM(Input!$C$3:'Input'!$C16))","v":49},35]
[{"$f":"IF(Input!$A17=\"\",\"\",Input!$A17)","v":"2015-01-15"},{"$f":"IF(Input!$B17=\"\",\"\",Input!$B17)","v":40},{"$f":"IF(Input!$C17=\"\",NA(),SUM(Input!$C$3:'Input'!$C17))","v":51},37.5]
[{"$f":"IF(Input!$A18=\"\",\"\",Input!$A18)","v":"2015-01-16"},{"$f":"IF(Input!$B18=\"\",\"\",Input!$B18)","v":40},{"$f":"IF(Input!$C18=\"\",NA(),SUM(Input!$C$3:'Input'!$C18))","v":53},40]
[{"$f":"IF(Input!$A19=\"\",\"\",Input!$A19)","v":""},{"$f":"IF(Input!$B19=\"\",\"\",Input!$B19)","v":""},{"$f":"IF(Input!$C19=\"\",NA(),SUM(Input!$C$3:'Input'!$C19))","v":{"$error":"#N/A"}},""]
[{"$f":"IF(Input!$A20=\"\",\"\",Input!$A20)","v":""},{"$f":"IF(Input!$B20=\"\",\"\",Input!$B20)","v":""},{"$f":"IF(Input!$C20=\"\",NA(),SUM(Input!$C$3:'Input'!$C20))","v":{"$error":"#N/A"}},""]
[{"$f":"IF(Input!$A21=\"\",\"\",Input!$A21)","v":""},{"$f":"IF(Input!$B21=\"\",\"\",Input!$B21)","v":""},{"$f":"IF(Input!$C21=\"\",NA(),SUM(Input!$C$3:'Input'!$C21))","v":{"$error":"#N/A"}},""]
[{"$f":"IF(Input!$A22=\"\",\"\",Input!$A22)","v":""},{"$f":"IF(Input!$B22=\"\",\"\",Input!$B22)","v":""},{"$f":"IF(Input!$C22=\"\",NA(),SUM(Input!$C$3:'Input'!$C22))","v":{"$error":"#N/A"}},""]
[{"$f":"IF(Input!$A23=\"\",\"\",Input!$A23)","v":""},{"$f":"IF(Input!$B23=\"\",\"\",Input!$B23)","v":""},{"$f":"IF(Input!$C23=\"\",NA(),SUM(Input!$C$3:'Input'!$C23))","v":{"$error":"#N/A"}},""]
[{"$f":"IF(Input!$A24=\"\",\"\",Input!$A24)","v":""},{"$f":"IF(Input!$B24=\"\",\"\",Input!$B24)","v":""},{"$f":"IF(Input!$C24=\"\",NA(),SUM(Input!$C$3:'Input'!$C24))","v":{"$error":"#N/A"}},""]
[{"$f":"IF(Input!$A25=\"\",\"\",Input!$A25)","v":""},{"$f":"IF(Input!$B25=\"\",\"\",Input!$B25)","v":""},{"$f":"IF(Input!$C25=\"\",NA(),SUM(Input!$C$3:'Input'!$C25))","v":{"$error":"#N/A"}},""]
[{"$f":"IF(Input!$A26=\"\",\"\",Input!$A26)","v":""},{"$f":"IF(Input!$B26=\"\",\"\",Input!$B26)","v":""},{"$f":"IF(Input!$C26=\"\",NA(),SUM(Input!$C$3:'Input'!$C26))","v":{"$error":"#N/A"}},""]
[{"$f":"IF(Input!$A27=\"\",\"\",Input!$A27)","v":""},{"$f":"IF(Input!$B27=\"\",\"\",Input!$B27)","v":""},{"$f":"IF(Input!$C27=\"\",NA(),SUM(Input!$C$3:'Input'!$C27))","v":{"$error":"#N/A"}},""]
[{"$f":"IF(Input!$A28=\"\",\"\",Input!$A28)","v":""},{"$f":"IF(Input!$B28=\"\",\"\",Input!$B28)","v":""},{"$f":"IF(Input!$C28=\"\",NA(),SUM(Input!$C$3:'Input'!$C28))","v":{"$error":"#N/A"}},""]
[{"$f":"IF(Input!$A29=\"\",\"\",Input!$A29)","v":""},{"$f":"IF(Input!$B29=\"\",\"\",Input!$B29)","v":""},{"$f":"IF(Input!$C29=\"\",NA(),SUM(Input!$C$3:'Input'!$C29))","v":{"$error":"#N/A"}},""]
[{"$f":"IF(Input!$A30=\"\",\"\",Input!$A30)","v":""},{"$f":"IF(Input!$B30=\"\",\"\",Input!$B30)","v":""},{"$f":"IF(Input!$C30=\"\",NA(),SUM(Input!$C$3:'Input'!$C30))","v":{"$error":"#N/A"}},""]
[{"$f":"IF(Input!$A31=\"\",\"\",Input!$A31)","v":""},{"$f":"IF(Input!$B31=\"\",\"\",Input!$B31)","v":""},{"$f":"IF(Input!$C31=\"\",NA(),SUM(Input!$C$3:'Input'!$C31))","v":{"$error":"#N/A"}},""]
[{"$f":"IF(Input!$A32=\"\",\"\",Input!$A32)","v":""},{"$f":"IF(Input!$B32=\"\",\"\",Input!$B32)","v":""},{"$f":"IF(Input!$C32=\"\",NA(),SUM(Input!$C$3:'Input'!$C32))","v":{"$error":"#N/A"}},""]
[{"$f":"IF(Input!$A33=\"\",\"\",Input!$A33)","v":""},{"$f":"IF(Input!$B33=\"\",\"\",Input!$B33)","v":""},{"$f":"IF(Input!$C33=\"\",NA(),SUM(Input!$C$3:'Input'!$C33))","v":{"$error":"#N/A"}},""]
[{"$f":"IF(Input!$A34=\"\",\"\",Input!$A34)","v":""},{"$f":"IF(Input!$B34=\"\",\"\",Input!$B34)","v":""},{"$f":"IF(Input!$C34=\"\",NA(),SUM(Input!$C$3:'Input'!$C34))","v":{"$error":"#N/A"}},""]
[{"$f":"IF(Input!$A35=\"\",\"\",Input!$A35)","v":""},{"$f":"IF(Input!$B35=\"\",\"\",Input!$B35)","v":""},{"$f":"IF(Input!$C35=\"\",NA(),SUM(Input!$C$3:'Input'!$C35))","v":{"$error":"#N/A"}},""]
[{"$f":"IF(Input!$A36=\"\",\"\",Input!$A36)","v":""},{"$f":"IF(Input!$B36=\"\",\"\",Input!$B36)","v":""},{"$f":"IF(Input!$C36=\"\",NA(),SUM(Input!$C$3:'Input'!$C36))","v":{"$error":"#N/A"}},""]
[{"$f":"IF(Input!$A37=\"\",\"\",Input!$A37)","v":""},{"$f":"IF(Input!$B37=\"\",\"\",Input!$B37)","v":""},{"$f":"IF(Input!$C37=\"\",NA(),SUM(Input!$C$3:'Input'!$C37))","v":{"$error":"#N/A"}},""]
[{"$f":"IF(Input!$A38=\"\",\"\",Input!$A38)","v":""},{"$f":"IF(Input!$B38=\"\",\"\",Input!$B38)","v":""},{"$f":"IF(Input!$C38=\"\",NA(),SUM(Input!$C$3:'Input'!$C38))","v":{"$error":"#N/A"}},""]
[{"$f":"IF(Input!$A39=\"\",\"\",Input!$A39)","v":""},{"$f":"IF(Input!$B39=\"\",\"\",Input!$B39)","v":""},{"$f":"IF(Input!$C39=\"\",NA(),SUM(Input!$C$3:'Input'!$C39))","v":{"$error":"#N/A"}},""]
[{"$f":"IF(Input!$A40=\"\",\"\",Input!$A40)","v":""},{"$f":"IF(Input!$B40=\"\",\"\",Input!$B40)","v":""},{"$f":"IF(Input!$C40=\"\",NA(),SUM(Input!$C$3:'Input'!$C40))","v":{"$error":"#N/A"}},""]
[{"$f":"IF(Input!$A41=\"\",\"\",Input!$A41)","v":""},{"$f":"IF(Input!$B41=\"\",\"\",Input!$B41)","v":""},{"$f":"IF(Input!$C41=\"\",NA(),SUM(Input!$C$3:'Input'!$C41))","v":{"$error":"#N/A"}},""]
[{"$f":"IF(Input!$A42=\"\",\"\",Input!$A42)","v":""},{"$f":"IF(Input!$B42=\"\",\"\",Input!$B42)","v":""},{"$f":"IF(Input!$C42=\"\",NA(),SUM(Input!$C$3:'Input'!$C42))","v":{"$error":"#N/A"}},""]
[{"$f":"IF(Input!$A43=\"\",\"\",Input!$A43)","v":""},{"$f":"IF(Input!$B43=\"\",\"\",Input!$B43)","v":""},{"$f":"IF(Input!$C43=\"\",NA(),SUM(Input!$C$3:'Input'!$C43))","v":{"$error":"#N/A"}},""]
[{"$f":"IF(Input!$A44=\"\",\"\",Input!$A44)","v":""},{"$f":"IF(Input!$B44=\"\",\"\",Input!$B44)","v":""},{"$f":"IF(Input!$C44=\"\",NA(),SUM(Input!$C$3:'Input'!$C44))","v":{"$error":"#N/A"}},""]
[{"$f":"IF(Input!$A45=\"\",\"\",Input!$A45)","v":""},{"$f":"IF(Input!$B45=\"\",\"\",Input!$B45)","v":""},{"$f":"IF(Input!$C45=\"\",NA(),SUM(Input!$C$3:'Input'!$C45))","v":{"$error":"#N/A"}},""]
[{"$f":"IF(Input!$A46=\"\",\"\",Input!$A46)","v":""},{"$f":"IF(Input!$B46=\"\",\"\",Input!$B46)","v":""},{"$f":"IF(Input!$C46=\"\",NA(),SUM(Input!$C$3:'Input'!$C46))","v":{"$error":"#N/A"}},""]
[{"$f":"IF(Input!$A47=\"\",\"\",Input!$A47)","v":""},{"$f":"IF(Input!$B47=\"\",\"\",Input!$B47)","v":""},{"$f":"IF(Input!$C47=\"\",NA(),SUM(Input!$C$3:'Input'!$C47))","v":{"$error":"#N/A"}},""]
[{"$f":"IF(Input!$A48=\"\",\"\",Input!$A48)","v":""},{"$f":"IF(Input!$B48=\"\",\"\",Input!$B48)","v":""},{"$f":"IF(Input!$C48=\"\",NA(),SUM(Input!$C$3:'Input'!$C48))","v":{"$error":"#N/A"}},""]
[{"$f":"IF(Input!$A49=\"\",\"\",Input!$A49)","v":""},{"$f":"IF(Input!$B49=\"\",\"\",Input!$B49)","v":""},{"$f":"IF(Input!$C49=\"\",NA(),SUM(Input!$C$3:'Input'!$C49))","v":{"$error":"#N/A"}},""]
[{"$f":"IF(Input!$A50=\"\",\"\",Input!$A50)","v":""},{"$f":"IF(Input!$B50=\"\",\"\",Input!$B50)","v":""},{"$f":"IF(Input!$C50=\"\",NA(),SUM(Input!$C$3:'Input'!$C50))","v":{"$error":"#N/A"}},""]
[{"$f":"IF(Input!$A51=\"\",\"\",Input!$A51)","v":""},{"$f":"IF(Input!$B51=\"\",\"\",Input!$B51)","v":""},{"$f":"IF(Input!$C51=\"\",NA(),SUM(Input!$C$3:'Input'!$C51))","v":{"$error":"#N/A"}},""]
[{"$f":"IF(Input!$A52=\"\",\"\",Input!$A52)","v":""},{"$f":"IF(Input!$B52=\"\",\"\",Input!$B52)","v":""},{"$f":"IF(Input!$C52=\"\",NA(),SUM(Input!$C$3:'Input'!$C52))","v":{"$error":"#N/A"}},""]
[{"$f":"IF(Input!$A53=\"\",\"\",Input!$A53)","v":""},{"$f":"IF(Input!$B53=\"\",\"\",Input!$B53)","v":""},{"$f":"IF(Input!$C53=\"\",NA(),SUM(Input!$C$3:'Input'!$C53))","v":{"$error":"#N/A"}},""]
[{"$f":"IF(Input!$A54=\"\",\"\",Input!$A54)","v":""},{"$f":"IF(Input!$B54=\"\",\"\",Input!$B54)","v":""},{"$f":"IF(Input!$C54=\"\",NA(),SUM(Input!$C$3:'Input'!$C54))","v":{"$error":"#N/A"}},""]
[{"$f":"IF(Input!$A55=\"\",\"\",Input!$A55)","v":""},{"$f":"IF(Input!$B55=\"\",\"\",Input!$B55)","v":""},{"$f":"IF(Input!$C55=\"\",NA(),SUM(Input!$C$3:'Input'!$C55))","v":{"$error":"#N/A"}},""]
[{"$f":"IF(Input!$A56=\"\",\"\",Input!$A56)","v":""},{"$f":"IF(Input!$B56=\"\",\"\",Input!$B56)","v":""},{"$f":"IF(Input!$C56=\"\",NA(),SUM(Input!$C$3:'Input'!$C56))","v":{"$error":"#N/A"}},""]
[{"$f":"IF(Input!$A57=\"\",\"\",Input!$A57)","v":""},{"$f":"IF(Input!$B57=\"\",\"\",Input!$B57)","v":""},{"$f":"IF(Input!$C57=\"\",NA(),SUM(Input!$C$3:'Input'!$C57))","v":{"$error":"#N/A"}},""]
[{"$f":"IF(Input!$A58=\"\",\"\",Input!$A58)","v":""},{"$f":"IF(Input!$B58=\"\",\"\",Input!$B58)","v":""},{"$f":"IF(Input!$C58=\"\",NA(),SUM(Input!$C$3:'Input'!$C58))","v":{"$error":"#N/A"}},""]
[{"$f":"IF(Input!$A59=\"\",\"\",Input!$A59)","v":""},{"$f":"IF(Input!$B59=\"\",\"\",Input!$B59)","v":""},{"$f":"IF(Input!$C59=\"\",NA(),SUM(Input!$C$3:'Input'!$C59))","v":{"$error":"#N/A"}},""]
[{"$f":"IF(Input!$A60=\"\",\"\",Input!$A60)","v":""},{"$f":"IF(Input!$B60=\"\",\"\",Input!$B60)","v":""},{"$f":"IF(Input!$C60=\"\",NA(),SUM(Input!$C$3:'Input'!$C60))","v":{"$error":"#N/A"}},""]
[{"$f":"IF(Input!$A61=\"\",\"\",Input!$A61)","v":""},{"$f":"IF(Input!$B61=\"\",\"\",Input!$B61)","v":""},{"$f":"IF(Input!$C61=\"\",NA(),SUM(Input!$C$3:'Input'!$C61))","v":{"$error":"#N/A"}},""]
[{"$f":"IF(Input!$A62=\"\",\"\",Input!$A62)","v":""},{"$f":"IF(Input!$B62=\"\",\"\",Input!$B62)","v":""},{"$f":"IF(Input!$C62=\"\",NA(),SUM(Input!$C$3:'Input'!$C62))","v":{"$error":"#N/A"}},""]
[{"$f":"IF(Input!$A63=\"\",\"\",Input!$A63)","v":""},{"$f":"IF(Input!$B63=\"\",\"\",Input!$B63)","v":""},{"$f":"IF(Input!$C63=\"\",NA(),SUM(Input!$C$3:'Input'!$C63))","v":{"$error":"#N/A"}},""]
[{"$f":"IF(Input!$A64=\"\",\"\",Input!$A64)","v":""},{"$f":"IF(Input!$B64=\"\",\"\",Input!$B64)","v":""},{"$f":"IF(Input!$C64=\"\",NA(),SUM(Input!$C$3:'Input'!$C64))","v":{"$error":"#N/A"}},""]
[{"$f":"IF(Input!$A65=\"\",\"\",Input!$A65)","v":""},{"$f":"IF(Input!$B65=\"\",\"\",Input!$B65)","v":""},{"$f":"IF(Input!$C65=\"\",NA(),SUM(Input!$C$3:'Input'!$C65))","v":{"$error":"#N/A"}},""]
[{"$f":"IF(Input!$A66=\"\",\"\",Input!$A66)","v":""},{"$f":"IF(Input!$B66=\"\",\"\",Input!$B66)","v":""},{"$f":"IF(Input!$C66=\"\",NA(),SUM(Input!$C$3:'Input'!$C66))","v":{"$error":"#N/A"}},""]
[{"$f":"IF(Input!$A67=\"\",\"\",Input!$A67)","v":""},{"$f":"IF(Input!$B67=\"\",\"\",Input!$B67)","v":""},{"$f":"IF(Input!$C67=\"\",NA(),SUM(Input!$C$3:'Input'!$C67))","v":{"$error":"#N/A"}},""]
[{"$f":"IF(Input!$A68=\"\",\"\",Input!$A68)","v":""},{"$f":"IF(Input!$B68=\"\",\"\",Input!$B68)","v":""},{"$f":"IF(Input!$C68=\"\",NA(),SUM(Input!$C$3:'Input'!$C68))","v":{"$error":"#N/A"}},{"$f":"IF($A68=\"\",\"\",$D67+$B$2/SUMPRODUCT(--($A$3:$A$202<>\"\")))","v":""}]
[{"$f":"IF(Input!$A69=\"\",\"\",Input!$A69)","v":""},{"$f":"IF(Input!$B69=\"\",\"\",Input!$B69)","v":""},{"$f":"IF(Input!$C69=\"\",NA(),SUM(Input!$C$3:'Input'!$C69))","v":{"$error":"#N/A"}},""]
[{"$f":"IF(Input!$A70=\"\",\"\",Input!$A70)","v":""},{"$f":"IF(Input!$B70=\"\",\"\",Input!$B70)","v":""},{"$f":"IF(Input!$C70=\"\",NA(),SUM(Input!$C$3:'Input'!$C70))","v":{"$error":"#N/A"}},""]
[{"$f":"IF(Input!$A71=\"\",\"\",Input!$A71)","v":""},{"$f":"IF(Input!$B71=\"\",\"\",Input!$B71)","v":""},{"$f":"IF(Input!$C71=\"\",NA(),SUM(Input!$C$3:'Input'!$C71))","v":{"$error":"#N/A"}},""]
[{"$f":"IF(Input!$A72=\"\",\"\",Input!$A72)","v":""},{"$f":"IF(Input!$B72=\"\",\"\",Input!$B72)","v":""},{"$f":"IF(Input!$C72=\"\",NA(),SUM(Input!$C$3:'Input'!$C72))","v":{"$error":"#N/A"}},""]
[{"$f":"IF(Input!$A73=\"\",\"\",Input!$A73)","v":""},{"$f":"IF(Input!$B73=\"\",\"\",Input!$B73)","v":""},{"$f":"IF(Input!$C73=\"\",NA(),SUM(Input!$C$3:'Input'!$C73))","v":{"$error":"#N/A"}},""]
[{"$f":"IF(Input!$A74=\"\",\"\",Input!$A74)","v":""},{"$f":"IF(Input!$B74=\"\",\"\",Input!$B74)","v":""},{"$f":"IF(Input!$C74=\"\",NA(),SUM(Input!$C$3:'Input'!$C74))","v":{"$error":"#N/A"}},""]
[{"$f":"IF(Input!$A75=\"\",\"\",Input!$A75)","v":""},{"$f":"IF(Input!$B75=\"\",\"\",Input!$B75)","v":""},{"$f":"IF(Input!$C75=\"\",NA(),SUM(Input!$C$3:'Input'!$C75))","v":{"$error":"#N/A"}},""]
[{"$f":"IF(Input!$A76=\"\",\"\",Input!$A76)","v":""},{"$f":"IF(Input!$B76=\"\",\"\",Input!$B76)","v":""},{"$f":"IF(Input!$C76=\"\",NA(),SUM(Input!$C$3:'Input'!$C76))","v":{"$error":"#N/A"}},""]
[{"$f":"IF(Input!$A77=\"\",\"\",Input!$A77)","v":""},{"$f":"IF(Input!$B77=\"\",\"\",Input!$B77)","v":""},{"$f":"IF(Input!$C77=\"\",NA(),SUM(Input!$C$3:'Input'!$C77))","v":{"$error":"#N/A"}},""]
[{"$f":"IF(Input!$A78=\"\",\"\",Input!$A78)","v":""},{"$f":"IF(Input!$B78=\"\",\"\",Input!$B78)","v":""},{"$f":"IF(Input!$C78=\"\",NA(),SUM(Input!$C$3:'Input'!$C78))","v":{"$error":"#N/A"}},""]
[{"$f":"IF(Input!$A79=\"\",\"\",Input!$A79)","v":""},{"$f":"IF(Input!$B79=\"\",\"\",Input!$B79)","v":""},{"$f":"IF(Input!$C79=\"\",NA(),SUM(Input!$C$3:'Input'!$C79))","v":{"$error":"#N/A"}},""]
[{"$f":"IF(Input!$A80=\"\",\"\",Input!$A80)","v":""},{"$f":"IF(Input!$B80=\"\",\"\",Input!$B80)","v":""},{"$f":"IF(Input!$C80=\"\",NA(),SUM(Input!$C$3:'Input'!$C80))","v":{"$error":"#N/A"}},""]
[{"$f":"IF(Input!$A81=\"\",\"\",Input!$A81)","v":""},{"$f":"IF(Input!$B81=\"\",\"\",Input!$B81)","v":""},{"$f":"IF(Input!$C81=\"\",NA(),SUM(Input!$C$3:'Input'!$C81))","v":{"$error":"#N/A"}},""]
[{"$f":"IF(Input!$A82=\"\",\"\",Input!$A82)","v":""},{"$f":"IF(Input!$B82=\"\",\"\",Input!$B82)","v":""},{"$f":"IF(Input!$C82=\"\",NA(),SUM(Input!$C$3:'Input'!$C82))","v":{"$error":"#N/A"}},""]
[{"$f":"IF(Input!$A83=\"\",\"\",Input!$A83)","v":""},{"$f":"IF(Input!$B83=\"\",\"\",Input!$B83)","v":""},{"$f":"IF(Input!$C83=\"\",NA(),SUM(Input!$C$3:'Input'!$C83))","v":{"$error":"#N/A"}},""]
[{"$f":"IF(Input!$A84=\"\",\"\",Input!$A84)","v":""},{"$f":"IF(Input!$B84=\"\",\"\",Input!$B84)","v":""},{"$f":"IF(Input!$C84=\"\",NA(),SUM(Input!$C$3:'Input'!$C84))","v":{"$error":"#N/A"}},""]
[{"$f":"IF(Input!$A85=\"\",\"\",Input!$A85)","v":""},{"$f":"IF(Input!$B85=\"\",\"\",Input!$B85)","v":""},{"$f":"IF(Input!$C85=\"\",NA(),SUM(Input!$C$3:'Input'!$C85))","v":{"$error":"#N/A"}},""]
[{"$f":"IF(Input!$A86=\"\",\"\",Input!$A86)","v":""},{"$f":"IF(Input!$B86=\"\",\"\",Input!$B86)","v":""},{"$f":"IF(Input!$C86=\"\",NA(),SUM(Input!$C$3:'Input'!$C86))","v":{"$error":"#N/A"}},""]
[{"$f":"IF(Input!$A87=\"\",\"\",Input!$A87)","v":""},{"$f":"IF(Input!$B87=\"\",\"\",Input!$B87)","v":""},{"$f":"IF(Input!$C87=\"\",NA(),SUM(Input!$C$3:'Input'!$C87))","v":{"$error":"#N/A"}},""]
[{"$f":"IF(Input!$A88=\"\",\"\",Input!$A88)","v":""},{"$f":"IF(Input!$B88=\"\",\"\",Input!$B88)","v":""},{"$f":"IF(Input!$C88=\"\",NA(),SUM(Input!$C$3:'Input'!$C88))","v":{"$error":"#N/A"}},""]
[{"$f":"IF(Input!$A89=\"\",\"\",Input!$A89)","v":""},{"$f":"IF(Input!$B89=\"\",\"\",Input!$B89)","v":""},{"$f":"IF(Input!$C89=\"\",NA(),SUM(Input!$C$3:'Input'!$C89))","v":{"$error":"#N/A"}},""]
[{"$f":"IF(Input!$A90=\"\",\"\",Input!$A90)","v":""},{"$f":"IF(Input!$B90=\"\",\"\",Input!$B90)","v":""},{"$f":"IF(Input!$C90=\"\",NA(),SUM(Input!$C$3:'Input'!$C90))","v":{"$error":"#N/A"}},""]
[{"$f":"IF(Input!$A91=\"\",\"\",Input!$A91)","v":""},{"$f":"IF(Input!$B91=\"\",\"\",Input!$B91)","v":""},{"$f":"IF(Input!$C91=\"\",NA(),SUM(Input!$C$3:'Input'!$C91))","v":{"$error":"#N/A"}},""]
[{"$f":"IF(Input!$A92=\"\",\"\",Input!$A92)","v":""},{"$f":"IF(Input!$B92=\"\",\"\",Input!$B92)","v":""},{"$f":"IF(Input!$C92=\"\",NA(),SUM(Input!$C$3:'Input'!$C92))","v":{"$error":"#N/A"}},""]
[{"$f":"IF(Input!$A93=\"\",\"\",Input!$A93)","v":""},{"$f":"IF(Input!$B93=\"\",\"\",Input!$B93)","v":""},{"$f":"IF(Input!$C93=\"\",NA(),SUM(Input!$C$3:'Input'!$C93))","v":{"$error":"#N/A"}},""]
[{"$f":"IF(Input!$A94=\"\",\"\",Input!$A94)","v":""},{"$f":"IF(Input!$B94=\"\",\"\",Input!$B94)","v":""},{"$f":"IF(Input!$C94=\"\",NA(),SUM(Input!$C$3:'Input'!$C94))","v":{"$error":"#N/A"}},""]
[{"$f":"IF(Input!$A95=\"\",\"\",Input!$A95)","v":""},{"$f":"IF(Input!$B95=\"\",\"\",Input!$B95)","v":""},{"$f":"IF(Input!$C95=\"\",NA(),SUM(Input!$C$3:'Input'!$C95))","v":{"$error":"#N/A"}},""]
[{"$f":"IF(Input!$A96=\"\",\"\",Input!$A96)","v":""},{"$f":"IF(Input!$B96=\"\",\"\",Input!$B96)","v":""},{"$f":"IF(Input!$C96=\"\",NA(),SUM(Input!$C$3:'Input'!$C96))","v":{"$error":"#N/A"}},""]
[{"$f":"IF(Input!$A97=\"\",\"\",Input!$A97)","v":""},{"$f":"IF(Input!$B97=\"\",\"\",Input!$B97)","v":""},{"$f":"IF(Input!$C97=\"\",NA(),SUM(Input!$C$3:'Input'!$C97))","v":{"$error":"#N/A"}},""]
[{"$f":"IF(Input!$A98=\"\",\"\",Input!$A98)","v":""},{"$f":"IF(Input!$B98=\"\",\"\",Input!$B98)","v":""},{"$f":"IF(Input!$C98=\"\",NA(),SUM(Input!$C$3:'Input'!$C98))","v":{"$error":"#N/A"}},""]
[{"$f":"IF(Input!$A99=\"\",\"\",Input!$A99)","v":""},{"$f":"IF(Input!$B99=\"\",\"\",Input!$B99)","v":""},{"$f":"IF(Input!$C99=\"\",NA(),SUM(Input!$C$3:'Input'!$C99))","v":{"$error":"#N/A"}},""]
[{"$f":"IF(Input!$A100=\"\",\"\",Input!$A100)","v":""},{"$f":"IF(Input!$B100=\"\",\"\",Input!$B100)","v":""},{"$f":"IF(Input!$C100=\"\",NA(),SUM(Input!$C$3:'Input'!$C100))","v":{"$error":"#N/A"}},""]
[{"$f":"IF(Input!$A101=\"\",\"\",Input!$A101)","v":""},{"$f":"IF(Input!$B101=\"\",\"\",Input!$B101)","v":""},{"$f":"IF(Input!$C101=\"\",NA(),SUM(Input!$C$3:'Input'!$C101))","v":{"$error":"#N/A"}},""]
[{"$f":"IF(Input!$A102=\"\",\"\",Input!$A102)","v":""},{"$f":"IF(Input!$B102=\"\",\"\",Input!$B102)","v":""},{"$f":"IF(Input!$C102=\"\",NA(),SUM(Input!$C$3:'Input'!$C102))","v":{"$error":"#N/A"}},""]
[{"$f":"IF(Input!$A103=\"\",\"\",Input!$A103)","v":""},{"$f":"IF(Input!$B103=\"\",\"\",Input!$B103)","v":""},{"$f":"IF(Input!$C103=\"\",NA(),SUM(Input!$C$3:'Input'!$C103))","v":{"$error":"#N/A"}},""]
[{"$f":"IF(Input!$A104=\"\",\"\",Input!$A104)","v":""},{"$f":"IF(Input!$B104=\"\",\"\",Input!$B104)","v":""},{"$f":"IF(Input!$C104=\"\",NA(),SUM(Input!$C$3:'Input'!$C104))","v":{"$error":"#N/A"}},""]
[{"$f":"IF(Input!$A105=\"\",\"\",Input!$A105)","v":""},{"$f":"IF(Input!$B105=\"\",\"\",Input!$B105)","v":""},{"$f":"IF(Input!$C105=\"\",NA(),SUM(Input!$C$3:'Input'!$C105))","v":{"$error":"#N/A"}},""]
[{"$f":"IF(Input!$A106=\"\",\"\",Input!$A106)","v":""},{"$f":"IF(Input!$B106=\"\",\"\",Input!$B106)","v":""},{"$f":"IF(Input!$C106=\"\",NA(),SUM(Input!$C$3:'Input'!$C106))","v":{"$error":"#N/A"}},""]
[{"$f":"IF(Input!$A107=\"\",\"\",Input!$A107)","v":""},{"$f":"IF(Input!$B107=\"\",\"\",Input!$B107)","v":""},{"$f":"IF(Input!$C107=\"\",NA(),SUM(Input!$C$3:'Input'!$C107))","v":{"$error":"#N/A"}},""]
[{"$f":"IF(Input!$A108=\"\",\"\",Input!$A108)","v":""},{"$f":"IF(Input!$B108=\"\",\"\",Input!$B108)","v":""},{"$f":"IF(Input!$C108=\"\",NA(),SUM(Input!$C$3:'Input'!$C108))","v":{"$error":"#N/A"}},""]
[{"$f":"IF(Input!$A109=\"\",\"\",Input!$A109)","v":""},{"$f":"IF(Input!$B109=\"\",\"\",Input!$B109)","v":""},{"$f":"IF(Input!$C109=\"\",NA(),SUM(Input!$C$3:'Input'!$C109))","v":{"$error":"#N/A"}},""]
[{"$f":"IF(Input!$A110=\"\",\"\",Input!$A110)","v":""},{"$f":"IF(Input!$B110=\"\",\"\",Input!$B110)","v":""},{"$f":"IF(Input!$C110=\"\",NA(),SUM(Input!$C$3:'Input'!$C110))","v":{"$error":"#N/A"}},""]
[{"$f":"IF(Input!$A111=\"\",\"\",Input!$A111)","v":""},{"$f":"IF(Input!$B111=\"\",\"\",Input!$B111)","v":""},{"$f":"IF(Input!$C111=\"\",NA(),SUM(Input!$C$3:'Input'!$C111))","v":{"$error":"#N/A"}},""]
[{"$f":"IF(Input!$A112=\"\",\"\",Input!$A112)","v":""},{"$f":"IF(Input!$B112=\"\",\"\",Input!$B112)","v":""},{"$f":"IF(Input!$C112=\"\",NA(),SUM(Input!$C$3:'Input'!$C112))","v":{"$error":"#N/A"}},""]
[{"$f":"IF(Input!$A113=\"\",\"\",Input!$A113)","v":""},{"$f":"IF(Input!$B113=\"\",\"\",Input!$B113)","v":""},{"$f":"IF(Input!$C113=\"\",NA(),SUM(Input!$C$3:'Input'!$C113))","v":{"$error":"#N/A"}},""]
[{"$f":"IF(Input!$A114=\"\",\"\",Input!$A114)","v":""},{"$f":"IF(Input!$B114=\"\",\"\",Input!$B114)","v":""},{"$f":"IF(Input!$C114=\"\",NA(),SUM(Input!$C$3:'Input'!$C114))","v":{"$error":"#N/A"}},""]
[{"$f":"IF(Input!$A115=\"\",\"\",Input!$A115)","v":""},{"$f":"IF(Input!$B115=\"\",\"\",Input!$B115)","v":""},{"$f":"IF(Input!$C115=\"\",NA(),SUM(Input!$C$3:'Input'!$C115))","v":{"$error":"#N/A"}},""]
[{"$f":"IF(Input!$A116=\"\",\"\",Input!$A116)","v":""},{"$f":"IF(Input!$B116=\"\",\"\",Input!$B116)","v":""},{"$f":"IF(Input!$C116=\"\",NA(),SUM(Input!$C$3:'Input'!$C116))","v":{"$error":"#N/A"}},""]
[{"$f":"IF(Input!$A117=\"\",\"\",Input!$A117)","v":""},{"$f":"IF(Input!$B117=\"\",\"\",Input!$B117)","v":""},{"$f":"IF(Input!$C117=\"\",NA(),SUM(Input!$C$3:'Input'!$C117))","v":{"$error":"#N/A"}},""]
[{"$f":"IF(Input!$A118=\"\",\"\",Input!$A118)","v":""},{"$f":"IF(Input!$B118=\"\",\"\",Input!$B118)","v":""},{"$f":"IF(Input!$C118=\"\",NA(),SUM(Input!$C$3:'Input'!$C118))","v":{"$error":"#N/A"}},""]
[{"$f":"IF(Input!$A119=\"\",\"\",Input!$A119)","v":""},{"$f":"IF(Input!$B119=\"\",\"\",Input!$B119)","v":""},{"$f":"IF(Input!$C119=\"\",NA(),SUM(Input!$C$3:'Input'!$C119))","v":{"$error":"#N/A"}},""]
[{"$f":"IF(Input!$A120=\"\",\"\",Input!$A120)","v":""},{"$f":"IF(Input!$B120=\"\",\"\",Input!$B120)","v":""},{"$f":"IF(Input!$C120=\"\",NA(),SUM(Input!$C$3:'Input'!$C120))","v":{"$error":"#N/A"}},""]
[{"$f":"IF(Input!$A121=\"\",\"\",Input!$A121)","v":""},{"$f":"IF(Input!$B121=\"\",\"\",Input!$B121)","v":""},{"$f":"IF(Input!$C121=\"\",NA(),SUM(Input!$C$3:'Input'!$C121))","v":{"$error":"#N/A"}},""]
[{"$f":"IF(Input!$A122=\"\",\"\",Input!$A122)","v":""},{"$f":"IF(Input!$B122=\"\",\"\",Input!$B122)","v":""},{"$f":"IF(Input!$C122=\"\",NA(),SUM(Input!$C$3:'Input'!$C122))","v":{"$error":"#N/A"}},""]
[{"$f":"IF(Input!$A123=\"\",\"\",Input!$A123)","v":""},{"$f":"IF(Input!$B123=\"\",\"\",Input!$B123)","v":""},{"$f":"IF(Input!$C123=\"\",NA(),SUM(Input!$C$3:'Input'!$C123))","v":{"$error":"#N/A"}},""]
[{"$f":"IF(Input!$A124=\"\",\"\",Input!$A124)","v":""},{"$f":"IF(Input!$B124=\"\",\"\",Input!$B124)","v":""},{"$f":"IF(Input!$C124=\"\",NA(),SUM(Input!$C$3:'Input'!$C124))","v":{"$error":"#N/A"}},""]
[{"$f":"IF(Input!$A125=\"\",\"\",Input!$A125)","v":""},{"$f":"IF(Input!$B125=\"\",\"\",Input!$B125)","v":""},{"$f":"IF(Input!$C125=\"\",NA(),SUM(Input!$C$3:'Input'!$C125))","v":{"$error":"#N/A"}},""]
[{"$f":"IF(Input!$A126=\"\",\"\",Input!$A126)","v":""},{"$f":"IF(Input!$B126=\"\",\"\",Input!$B126)","v":""},{"$f":"IF(Input!$C126=\"\",NA(),SUM(Input!$C$3:'Input'!$C126))","v":{"$error":"#N/A"}},""]
[{"$f":"IF(Input!$A127=\"\",\"\",Input!$A127)","v":""},{"$f":"IF(Input!$B127=\"\",\"\",Input!$B127)","v":""},{"$f":"IF(Input!$C127=\"\",NA(),SUM(Input!$C$3:'Input'!$C127))","v":{"$error":"#N/A"}},""]
[{"$f":"IF(Input!$A128=\"\",\"\",Input!$A128)","v":""},{"$f":"IF(Input!$B128=\"\",\"\",Input!$B128)","v":""},{"$f":"IF(Input!$C128=\"\",NA(),SUM(Input!$C$3:'Input'!$C128))","v":{"$error":"#N/A"}},""]
[{"$f":"IF(Input!$A129=\"\",\"\",Input!$A129)","v":""},{"$f":"IF(Input!$B129=\"\",\"\",Input!$B129)","v":""},{"$f":"IF(Input!$C129=\"\",NA(),SUM(Input!$C$3:'Input'!$C129))","v":{"$error":"#N/A"}},""]
[{"$f":"IF(Input!$A130=\"\",\"\",Input!$A130)","v":""},{"$f":"IF(Input!$B130=\"\",\"\",Input!$B130)","v":""},{"$f":"IF(Input!$C130=\"\",NA(),SUM(Input!$C$3:'Input'!$C130))","v":{"$error":"#N/A"}},""]
[{"$f":"IF(Input!$A131=\"\",\"\",Input!$A131)","v":""},{"$f":"IF(Input!$B131=\"\",\"\",Input!$B131)","v":""},{"$f":"IF(Input!$C131=\"\",NA(),SUM(Input!$C$3:'Input'!$C131))","v":{"$error":"#N/A"}},""]
[{"$f":"IF(Input!$A132=\"\",\"\",Input!$A132)","v":""},{"$f":"IF(Input!$B132=\"\",\"\",Input!$B132)","v":""},{"$f":"IF(Input!$C132=\"\",NA(),SUM(Input!$C$3:'Input'!$C132))","v":{"$error":"#N/A"}},{"$f":"IF($A132=\"\",\"\",$D131+$B$2/SUMPRODUCT(--($A$3:$A$202<>\"\")))","v":""}]
[{"$f":"IF(Input!$A133=\"\",\"\",Input!$A133)","v":""},{"$f":"IF(Input!$B133=\"\",\"\",Input!$B133)","v":""},{"$f":"IF(Input!$C133=\"\",NA(),SUM(Input!$C$3:'Input'!$C133))","v":{"$error":"#N/A"}},""]
[{"$f":"IF(Input!$A134=\"\",\"\",Input!$A134)","v":""},{"$f":"IF(Input!$B134=\"\",\"\",Input!$B134)","v":""},{"$f":"IF(Input!$C134=\"\",NA(),SUM(Input!$C$3:'Input'!$C134))","v":{"$error":"#N/A"}},""]
[{"$f":"IF(Input!$A135=\"\",\"\",Input!$A135)","v":""},{"$f":"IF(Input!$B135=\"\",\"\",Input!$B135)","v":""},{"$f":"IF(Input!$C135=\"\",NA(),SUM(Input!$C$3:'Input'!$C135))","v":{"$error":"#N/A"}},""]
[{"$f":"IF(Input!$A136=\"\",\"\",Input!$A136)","v":""},{"$f":"IF(Input!$B136=\"\",\"\",Input!$B136)","v":""},{"$f":"IF(Input!$C136=\"\",NA(),SUM(Input!$C$3:'Input'!$C136))","v":{"$error":"#N/A"}},""]
[{"$f":"IF(Input!$A137=\"\",\"\",Input!$A137)","v":""},{"$f":"IF(Input!$B137=\"\",\"\",Input!$B137)","v":""},{"$f":"IF(Input!$C137=\"\",NA(),SUM(Input!$C$3:'Input'!$C137))","v":{"$error":"#N/A"}},""]
[{"$f":"IF(Input!$A138=\"\",\"\",Input!$A138)","v":""},{"$f":"IF(Input!$B138=\"\",\"\",Input!$B138)","v":""},{"$f":"IF(Input!$C138=\"\",NA(),SUM(Input!$C$3:'Input'!$C138))","v":{"$error":"#N/A"}},""]
[{"$f":"IF(Input!$A139=\"\",\"\",Input!$A139)","v":""},{"$f":"IF(Input!$B139=\"\",\"\",Input!$B139)","v":""},{"$f":"IF(Input!$C139=\"\",NA(),SUM(Input!$C$3:'Input'!$C139))","v":{"$error":"#N/A"}},""]
[{"$f":"IF(Input!$A140=\"\",\"\",Input!$A140)","v":""},{"$f":"IF(Input!$B140=\"\",\"\",Input!$B140)","v":""},{"$f":"IF(Input!$C140=\"\",NA(),SUM(Input!$C$3:'Input'!$C140))","v":{"$error":"#N/A"}},""]
[{"$f":"IF(Input!$A141=\"\",\"\",Input!$A141)","v":""},{"$f":"IF(Input!$B141=\"\",\"\",Input!$B141)","v":""},{"$f":"IF(Input!$C141=\"\",NA(),SUM(Input!$C$3:'Input'!$C141))","v":{"$error":"#N/A"}},""]
[{"$f":"IF(Input!$A142=\"\",\"\",Input!$A142)","v":""},{"$f":"IF(Input!$B142=\"\",\"\",Input!$B142)","v":""},{"$f":"IF(Input!$C142=\"\",NA(),SUM(Input!$C$3:'Input'!$C142))","v":{"$error":"#N/A"}},""]
[{"$f":"IF(Input!$A143=\"\",\"\",Input!$A143)","v":""},{"$f":"IF(Input!$B143=\"\",\"\",Input!$B143)","v":""},{"$f":"IF(Input!$C143=\"\",NA(),SUM(Input!$C$3:'Input'!$C143))","v":{"$error":"#N/A"}},""]
[{"$f":"IF(Input!$A144=\"\",\"\",Input!$A144)","v":""},{"$f":"IF(Input!$B144=\"\",\"\",Input!$B144)","v":""},{"$f":"IF(Input!$C144=\"\",NA(),SUM(Input!$C$3:'Input'!$C144))","v":{"$error":"#N/A"}},""]
[{"$f":"IF(Input!$A145=\"\",\"\",Input!$A145)","v":""},{"$f":"IF(Input!$B145=\"\",\"\",Input!$B145)","v":""},{"$f":"IF(Input!$C145=\"\",NA(),SUM(Input!$C$3:'Input'!$C145))","v":{"$error":"#N/A"}},""]
[{"$f":"IF(Input!$A146=\"\",\"\",Input!$A146)","v":""},{"$f":"IF(Input!$B146=\"\",\"\",Input!$B146)","v":""},{"$f":"IF(Input!$C146=\"\",NA(),SUM(Input!$C$3:'Input'!$C146))","v":{"$error":"#N/A"}},""]
[{"$f":"IF(Input!$A147=\"\",\"\",Input!$A147)","v":""},{"$f":"IF(Input!$B147=\"\",\"\",Input!$B147)","v":""},{"$f":"IF(Input!$C147=\"\",NA(),SUM(Input!$C$3:'Input'!$C147))","v":{"$error":"#N/A"}},""]
[{"$f":"IF(Input!$A148=\"\",\"\",Input!$A148)","v":""},{"$f":"IF(Input!$B148=\"\",\"\",Input!$B148)","v":""},{"$f":"IF(Input!$C148=\"\",NA(),SUM(Input!$C$3:'Input'!$C148))","v":{"$error":"#N/A"}},""]
[{"$f":"IF(Input!$A149=\"\",\"\",Input!$A149)","v":""},{"$f":"IF(Input!$B149=\"\",\"\",Input!$B149)","v":""},{"$f":"IF(Input!$C149=\"\",NA(),SUM(Input!$C$3:'Input'!$C149))","v":{"$error":"#N/A"}},""]
[{"$f":"IF(Input!$A150=\"\",\"\",Input!$A150)","v":""},{"$f":"IF(Input!$B150=\"\",\"\",Input!$B150)","v":""},{"$f":"IF(Input!$C150=\"\",NA(),SUM(Input!$C$3:'Input'!$C150))","v":{"$error":"#N/A"}},""]
[{"$f":"IF(Input!$A151=\"\",\"\",Input!$A151)","v":""},{"$f":"IF(Input!$B151=\"\",\"\",Input!$B151)","v":""},{"$f":"IF(Input!$C151=\"\",NA(),SUM(Input!$C$3:'Input'!$C151))","v":{"$error":"#N/A"}},""]
[{"$f":"IF(Input!$A152=\"\",\"\",Input!$A152)","v":""},{"$f":"IF(Input!$B152=\"\",\"\",Input!$B152)","v":""},{"$f":"IF(Input!$C152=\"\",NA(),SUM(Input!$C$3:'Input'!$C152))","v":{"$error":"#N/A"}},""]
[{"$f":"IF(Input!$A153=\"\",\"\",Input!$A153)","v":""},{"$f":"IF(Input!$B153=\"\",\"\",Input!$B153)","v":""},{"$f":"IF(Input!$C153=\"\",NA(),SUM(Input!$C$3:'Input'!$C153))","v":{"$error":"#N/A"}},""]
[{"$f":"IF(Input!$A154=\"\",\"\",Input!$A154)","v":""},{"$f":"IF(Input!$B154=\"\",\"\",Input!$B154)","v":""},{"$f":"IF(Input!$C154=\"\",NA(),SUM(Input!$C$3:'Input'!$C154))","v":{"$error":"#N/A"}},""]
[{"$f":"IF(Input!$A155=\"\",\"\",Input!$A155)","v":""},{"$f":"IF(Input!$B155=\"\",\"\",Input!$B155)","v":""},{"$f":"IF(Input!$C155=\"\",NA(),SUM(Input!$C$3:'Input'!$C155))","v":{"$error":"#N/A"}},""]
[{"$f":"IF(Input!$A156=\"\",\"\",Input!$A156)","v":""},{"$f":"IF(Input!$B156=\"\",\"\",Input!$B156)","v":""},{"$f":"IF(Input!$C156=\"\",NA(),SUM(Input!$C$3:'Input'!$C156))","v":{"$error":"#N/A"}},""]
[{"$f":"IF(Input!$A157=\"\",\"\",Input!$A157)","v":""},{"$f":"IF(Input!$B157=\"\",\"\",Input!$B157)","v":""},{"$f":"IF(Input!$C157=\"\",NA(),SUM(Input!$C$3:'Input'!$C157))","v":{"$error":"#N/A"}},""]
[{"$f":"IF(Input!$A158=\"\",\"\",Input!$A158)","v":""},{"$f":"IF(Input!$B158=\"\",\"\",Input!$B158)","v":""},{"$f":"IF(Input!$C158=\"\",NA(),SUM(Input!$C$3:'Input'!$C158))","v":{"$error":"#N/A"}},""]
[{"$f":"IF(Input!$A159=\"\",\"\",Input!$A159)","v":""},{"$f":"IF(Input!$B159=\"\",\"\",Input!$B159)","v":""},{"$f":"IF(Input!$C159=\"\",NA(),SUM(Input!$C$3:'Input'!$C159))","v":{"$error":"#N/A"}},""]
[{"$f":"IF(Input!$A160=\"\",\"\",Input!$A160)","v":""},{"$f":"IF(Input!$B160=\"\",\"\",Input!$B160)","v":""},{"$f":"IF(Input!$C160=\"\",NA(),SUM(Input!$C$3:'Input'!$C160))","v":{"$error":"#N/A"}},""]
[{"$f":"IF(Input!$A161=\"\",\"\",Input!$A161)","v":""},{"$f":"IF(Input!$B161=\"\",\"\",Input!$B161)","v":""},{"$f":"IF(Input!$C161=\"\",NA(),SUM(Input!$C$3:'Input'!$C161))","v":{"$error":"#N/A"}},""]
[{"$f":"IF(Input!$A162=\"\",\"\",Input!$A162)","v":""},{"$f":"IF(Input!$B162=\"\",\"\",Input!$B162)","v":""},{"$f":"IF(Input!$C162=\"\",NA(),SUM(Input!$C$3:'Input'!$C162))","v":{"$error":"#N/A"}},""]
[{"$f":"IF(Input!$A163=\"\",\"\",Input!$A163)","v":""},{"$f":"IF(Input!$B163=\"\",\"\",Input!$B163)","v":""},{"$f":"IF(Input!$C163=\"\",NA(),SUM(Input!$C$3:'Input'!$C163))","v":{"$error":"#N/A"}},""]
[{"$f":"IF(Input!$A164=\"\",\"\",Input!$A164)","v":""},{"$f":"IF(Input!$B164=\"\",\"\",Input!$B164)","v":""},{"$f":"IF(Input!$C164=\"\",NA(),SUM(Input!$C$3:'Input'!$C164))","v":{"$error":"#N/A"}},""]
[{"$f":"IF(Input!$A165=\"\",\"\",Input!$A165)","v":""},{"$f":"IF(Input!$B165=\"\",\"\",Input!$B165)","v":""},{"$f":"IF(Input!$C165=\"\",NA(),SUM(Input!$C$3:'Input'!$C165))","v":{"$error":"#N/A"}},""]
[{"$f":"IF(Input!$A166=\"\",\"\",Input!$A166)","v":""},{"$f":"IF(Input!$B166=\"\",\"\",Input!$B166)","v":""},{"$f":"IF(Input!$C166=\"\",NA(),SUM(Input!$C$3:'Input'!$C166))","v":{"$error":"#N/A"}},""]
[{"$f":"IF(Input!$A167=\"\",\"\",Input!$A167)","v":""},{"$f":"IF(Input!$B167=\"\",\"\",Input!$B167)","v":""},{"$f":"IF(Input!$C167=\"\",NA(),SUM(Input!$C$3:'Input'!$C167))","v":{"$error":"#N/A"}},""]
[{"$f":"IF(Input!$A168=\"\",\"\",Input!$A168)","v":""},{"$f":"IF(Input!$B168=\"\",\"\",Input!$B168)","v":""},{"$f":"IF(Input!$C168=\"\",NA(),SUM(Input!$C$3:'Input'!$C168))","v":{"$error":"#N/A"}},""]
[{"$f":"IF(Input!$A169=\"\",\"\",Input!$A169)","v":""},{"$f":"IF(Input!$B169=\"\",\"\",Input!$B169)","v":""},{"$f":"IF(Input!$C169=\"\",NA(),SUM(Input!$C$3:'Input'!$C169))","v":{"$error":"#N/A"}},""]
[{"$f":"IF(Input!$A170=\"\",\"\",Input!$A170)","v":""},{"$f":"IF(Input!$B170=\"\",\"\",Input!$B170)","v":""},{"$f":"IF(Input!$C170=\"\",NA(),SUM(Input!$C$3:'Input'!$C170))","v":{"$error":"#N/A"}},""]
[{"$f":"IF(Input!$A171=\"\",\"\",Input!$A171)","v":""},{"$f":"IF(Input!$B171=\"\",\"\",Input!$B171)","v":""},{"$f":"IF(Input!$C171=\"\",NA(),SUM(Input!$C$3:'Input'!$C171))","v":{"$error":"#N/A"}},""]
[{"$f":"IF(Input!$A172=\"\",\"\",Input!$A172)","v":""},{"$f":"IF(Input!$B172=\"\",\"\",Input!$B172)","v":""},{"$f":"IF(Input!$C172=\"\",NA(),SUM(Input!$C$3:'Input'!$C172))","v":{"$error":"#N/A"}},""]
[{"$f":"IF(Input!$A173=\"\",\"\",Input!$A173)","v":""},{"$f":"IF(Input!$B173=\"\",\"\",Input!$B173)","v":""},{"$f":"IF(Input!$C173=\"\",NA(),SUM(Input!$C$3:'Input'!$C173))","v":{"$error":"#N/A"}},""]
[{"$f":"IF(Input!$A174=\"\",\"\",Input!$A174)","v":""},{"$f":"IF(Input!$B174=\"\",\"\",Input!$B174)","v":""},{"$f":"IF(Input!$C174=\"\",NA(),SUM(Input!$C$3:'Input'!$C174))","v":{"$error":"#N/A"}},""]
[{"$f":"IF(Input!$A175=\"\",\"\",Input!$A175)","v":""},{"$f":"IF(Input!$B175=\"\",\"\",Input!$B175)","v":""},{"$f":"IF(Input!$C175=\"\",NA(),SUM(Input!$C$3:'Input'!$C175))","v":{"$error":"#N/A"}},""]
[{"$f":"IF(Input!$A176=\"\",\"\",Input!$A176)","v":""},{"$f":"IF(Input!$B176=\"\",\"\",Input!$B176)","v":""},{"$f":"IF(Input!$C176=\"\",NA(),SUM(Input!$C$3:'Input'!$C176))","v":{"$error":"#N/A"}},""]
[{"$f":"IF(Input!$A177=\"\",\"\",Input!$A177)","v":""},{"$f":"IF(Input!$B177=\"\",\"\",Input!$B177)","v":""},{"$f":"IF(Input!$C177=\"\",NA(),SUM(Input!$C$3:'Input'!$C177))","v":{"$error":"#N/A"}},""]
[{"$f":"IF(Input!$A178=\"\",\"\",Input!$A178)","v":""},{"$f":"IF(Input!$B178=\"\",\"\",Input!$B178)","v":""},{"$f":"IF(Input!$C178=\"\",NA(),SUM(Input!$C$3:'Input'!$C178))","v":{"$error":"#N/A"}},""]
[{"$f":"IF(Input!$A179=\"\",\"\",Input!$A179)","v":""},{"$f":"IF(Input!$B179=\"\",\"\",Input!$B179)","v":""},{"$f":"IF(Input!$C179=\"\",NA(),SUM(Input!$C$3:'Input'!$C179))","v":{"$error":"#N/A"}},""]
[{"$f":"IF(Input!$A180=\"\",\"\",Input!$A180)","v":""},{"$f":"IF(Input!$B180=\"\",\"\",Input!$B180)","v":""},{"$f":"IF(Input!$C180=\"\",NA(),SUM(Input!$C$3:'Input'!$C180))","v":{"$error":"#N/A"}},""]
[{"$f":"IF(Input!$A181=\"\",\"\",Input!$A181)","v":""},{"$f":"IF(Input!$B181=\"\",\"\",Input!$B181)","v":""},{"$f":"IF(Input!$C181=\"\",NA(),SUM(Input!$C$3:'Input'!$C181))","v":{"$error":"#N/A"}},""]
[{"$f":"IF(Input!$A182=\"\",\"\",Input!$A182)","v":""},{"$f":"IF(Input!$B182=\"\",\"\",Input!$B182)","v":""},{"$f":"IF(Input!$C182=\"\",NA(),SUM(Input!$C$3:'Input'!$C182))","v":{"$error":"#N/A"}},""]
[{"$f":"IF(Input!$A183=\"\",\"\",Input!$A183)","v":""},{"$f":"IF(Input!$B183=\"\",\"\",Input!$B183)","v":""},{"$f":"IF(Input!$C183=\"\",NA(),SUM(Input!$C$3:'Input'!$C183))","v":{"$error":"#N/A"}},""]
[{"$f":"IF(Input!$A184=\"\",\"\",Input!$A184)","v":""},{"$f":"IF(Input!$B184=\"\",\"\",Input!$B184)","v":""},{"$f":"IF(Input!$C184=\"\",NA(),SUM(Input!$C$3:'Input'!$C184))","v":{"$error":"#N/A"}},""]
[{"$f":"IF(Input!$A185=\"\",\"\",Input!$A185)","v":""},{"$f":"IF(Input!$B185=\"\",\"\",Input!$B185)","v":""},{"$f":"IF(Input!$C185=\"\",NA(),SUM(Input!$C$3:'Input'!$C185))","v":{"$error":"#N/A"}},""]
[{"$f":"IF(Input!$A186=\"\",\"\",Input!$A186)","v":""},{"$f":"IF(Input!$B186=\"\",\"\",Input!$B186)","v":""},{"$f":"IF(Input!$C186=\"\",NA(),SUM(Input!$C$3:'Input'!$C186))","v":{"$error":"#N/A"}},""]
[{"$f":"IF(Input!$A187=\"\",\"\",Input!$A187)","v":""},{"$f":"IF(Input!$B187=\"\",\"\",Input!$B187)","v":""},{"$f":"IF(Input!$C187=\"\",NA(),SUM(Input!$C$3:'Input'!$C187))","v":{"$error":"#N/A"}},""]
[{"$f":"IF(Input!$A188=\"\",\"\",Input!$A188)","v":""},{"$f":"IF(Input!$B188=\"\",\"\",Input!$B188)","v":""},{"$f":"IF(Input!$C188=\"\",NA(),SUM(Input!$C$3:'Input'!$C188))","v":{"$error":"#N/A"}},""]
[{"$f":"IF(Input!$A189=\"\",\"\",Input!$A189)","v":""},{"$f":"IF(Input!$B189=\"\",\"\",Input!$B189)","v":""},{"$f":"IF(Input!$C189=\"\",NA(),SUM(Input!$C$3:'Input'!$C189))","v":{"$error":"#N/A"}},""]
[{"$f":"IF(Input!$A190=\"\",\"\",Input!$A190)","v":""},{"$f":"IF(Input!$B190=\"\",\"\",Input!$B190)","v":""},{"$f":"IF(Input!$C190=\"\",NA(),SUM(Input!$C$3:'Input'!$C190))","v":{"$error":"#N/A"}},""]
[{"$f":"IF(Input!$A191=\"\",\"\",Input!$A191)","v":""},{"$f":"IF(Input!$B191=\"\",\"\",Input!$B191)","v":""},{"$f":"IF(Input!$C191=\"\",NA(),SUM(Input!$C$3:'Input'!$C191))","v":{"$error":"#N/A"}},""]
[{"$f":"IF(Input!$A192=\"\",\"\",Input!$A192)","v":""},{"$f":"IF(Input!$B192=\"\",\"\",Input!$B192)","v":""},{"$f":"IF(Input!$C192=\"\",NA(),SUM(Input!$C$3:'Input'!$C192))","v":{"$error":"#N/A"}},""]
[{"$f":"IF(Input!$A193=\"\",\"\",Input!$A193)","v":""},{"$f":"IF(Input!$B193=\"\",\"\",Input!$B193)","v":""},{"$f":"IF(Input!$C193=\"\",NA(),SUM(Input!$C$3:'Input'!$C193))","v":{"$error":"#N/A"}},""]
[{"$f":"IF(Input!$A194=\"\",\"\",Input!$A194)","v":""},{"$f":"IF(Input!$B194=\"\",\"\",Input!$B194)","v":""},{"$f":"IF(Input!$C194=\"\",NA(),SUM(Input!$C$3:'Input'!$C194))","v":{"$error":"#N/A"}},""]
[{"$f":"IF(Input!$A195=\"\",\"\",Input!$A195)","v":""},{"$f":"IF(Input!$B195=\"\",\"\",Input!$B195)","v":""},{"$f":"IF(Input!$C195=\"\",NA(),SUM(Input!$C$3:'Input'!$C195))","v":{"$error":"#N/A"}},""]
[{"$f":"IF(Input!$A196=\"\",\"\",Input!$A196)","v":""},{"$f":"IF(Input!$B196=\"\",\"\",Input!$B196)","v":""},{"$f":"IF(Input!$C196=\"\",NA(),SUM(Input!$C$3:'Input'!$C196))","v":{"$error":"#N/A"}},{"$f":"IF($A196=\"\",\"\",$D195+$B$2/SUMPRODUCT(--($A$3:$A$202<>\"\")))","v":""}]
[{"$f":"IF(Input!$A197=\"\",\"\",Input!$A197)","v":""},{"$f":"IF(Input!$B197=\"\",\"\",Input!$B197)","v":""},{"$f":"IF(Input!$C197=\"\",NA(),SUM(Input!$C$3:'Input'!$C197))","v":{"$error":"#N/A"}},""]
[{"$f":"IF(Input!$A198=\"\",\"\",Input!$A198)","v":""},{"$f":"IF(Input!$B198=\"\",\"\",Input!$B198)","v":""},{"$f":"IF(Input!$C198=\"\",NA(),SUM(Input!$C$3:'Input'!$C198))","v":{"$error":"#N/A"}},""]
[{"$f":"IF(Input!$A199=\"\",\"\",Input!$A199)","v":""},{"$f":"IF(Input!$B199=\"\",\"\",Input!$B199)","v":""},{"$f":"IF(Input!$C199=\"\",NA(),SUM(Input!$C$3:'Input'!$C199))","v":{"$error":"#N/A"}},""]
[{"$f":"IF(Input!$A200=\"\",\"\",Input!$A200)","v":""},{"$f":"IF(Input!$B200=\"\",\"\",Input!$B200)","v":""},{"$f":"IF(Input!$C200=\"\",NA(),SUM(Input!$C$3:'Input'!$C200))","v":{"$error":"#N/A"}},""]
[{"$f":"IF(Input!$A201=\"\",\"\",Input!$A201)","v":""},{"$f":"IF(Input!$B201=\"\",\"\",Input!$B201)","v":""},{"$f":"IF(Input!$C201=\"\",NA(),SUM(Input!$C$3:'Input'!$C201))","v":{"$error":"#N/A"}},""]
[{"$f":"IF(Input!$A202=\"\",\"\",Input!$A202)","v":""},{"$f":"IF(Input!$B202=\"\",\"\",Input!$B202)","v":""},{"$f":"IF(Input!$C202=\"\",NA(),SUM(Input!$C$3:'Input'!$C202))","v":{"$error":"#N/A"}},""]